Workbook
Name コード表: 会員コード表!$A$2:$A$292

Sheet 調査票
C1: 2026年度実施 （調査対象：2025年度） 看護系大学に関する実態調査のお願い
C2: 本調査は、一般社団法人 日本看護系大学協議会および、一般社団法人 日本私立看護系大学協会の合同事業として、対象年度に学生を受け入れている全ての看護系大学を対象として実施するものです。調査の目的は、看護系大学の学生や教員の状態、社会貢献や研究活動の成果・発信、看護学教育にかかわる経費等の実態を把握し、日本の保健医療や社会の動向を踏まえた看護学教育のあり方を検討したのち、教育政策、看護政策等に提言するための基礎資料とすることです。両会の会員校が回答した調査データ（個別データ）につきましては、原則として当該校以外が閲覧することはございません。また、本調査は自由意思によるものであり、回答の有無ならびにその内容によって不利益を被ることはございません。 本調査の結果は、貴重なデータとなります。集計結果は日本看護系大学協議会と日本私立看護系大学協会のホームページに公開いたします。また、毎年発刊している日本看護系大学協議会の事業活動報告書（定時社員総会前に配布）に掲載し、会員校はもとより厚生労働省、文部科学省にも活用されています。会員校の皆様にご協力いただきますよう、何卒お願いいたします。 なお、本調査票を提出する前に、社員（＝代表者）または看護系学部・学科に所属する教員が、責任をもって回答内容の最終チェックを行ってください。
W11: https://www.janpu.or.jp/file/2026manual.pdf
C16: 貴大学の情報について | N16: （必ず回答してください。）
C17: JANPU会員コードを入力してください。※「大学名」と「設置主体」は、自動で表示されます。
D19: JANPU 会員コード
D21: 大学名 | H21: =IF(ISNA(VLOOKUP($H$19,会員コード表!A:C,3,FALSE)),"",VLOOKUP($H$19,会員コード表!A:C,3,FALSE))
D23: 設置主体 | H23: =IF(ISNA(VLOOKUP($H$19,会員コード表!A:C,2,FALSE)),"",VLOOKUP($H$19,会員コード表!A:C,2,FALSE))
D25: 回答責任者 | H25: ご所属名 | V25: お名前
C27: １．看護系学部・学科について
C28: Ｑ１．看護系の学部・学科は、2025年度において卒業生を出しましたか。〔１つだけ○〕 | AT28: クリア
E30: １．出している | N30: ２．出していない
C32: Ｑ２．看護系の学部・学科に編入制度はありますか。〔いくつでも○〕 | AZ32: =IF(①!H3=TRUE,1,0) -> 0 | BA32: =IF(①!I3=TRUE,1,0) -> 0 | BB32: =IF(①!J3=TRUE,1,0) -> 0 | BD32: =IF(SUM(AZ32:BB32)>0,1,0) -> 0 | BE32: =IF(①!K3=TRUE,1,0) -> 0 | BF32: =SUM(BD32:BE32) -> 0
E34: １．３年次編入（有資格者）制度がある | S34: ２．２年次学士編入制度がある | AD34: ３．３年次学士編入制度がある | AO34: ４．ない | AT34: =IF(BF32=2,"選択肢1～3と「4.ない」の両方が選択されています","")
D36: Ｑ２で「１．３年次編入（有資格者）制度がある」と回答された方にお聞きします
C37: Ｑ３．2025年度入学者の出身学校種別の内訳を教えてください。〔数値回答〕
D39: ①専修学校卒業者数 | K39: ②短期大学卒業者数
J40: 人 | Q40: 人
C43: Ｑ４．看護系学部・学科の構成員として所属する全教員数（常勤）を教えてください。〔各数値回答〕
L45: ① | O45: ② | R45: ③ | U45: ④ | X45: ⑤ | AA45: ⑥ | AD45: ⑦ | AJ45: ⑧
L46: 合 計 | AJ46: 未充足数
O47: 教 授 | R47: 准教授 | U47: 講 師 | X47: 助 教 | AA47: 助 手 | AD47: その他
D48: 全 体 | J48: 男性 | L48: =SUM(O48,R48,U48,X48,AA48,AD48) -> 0 | N48: 人 | O48: =SUM(O51,O54) -> 0 | Q48: 人 | R48: =SUM(R51,R54) -> 0 | T48: 人 | U48: =SUM(U51,U54) -> 0 | W48: 人 | X48: =SUM(X51,X54) -> 0 | Z48: 人 | AA48: =SUM(AA51,AA54) -> 0 | AC48: 人 | AD48: =SUM(AD51,AD54) -> 0 | AF48: 人 | AJ48: 未充足数 合計 （自動計算）
J49: 女性 | L49: =SUM(O49,R49,U49,X49,AA49,AD49) -> 0 | N49: 人 | O49: =SUM(O52,O55) -> 0 | Q49: 人 | R49: =SUM(R52,R55) -> 0 | T49: 人 | U49: =SUM(U52,U55) -> 0 | W49: 人 | X49: =SUM(X52,X55) -> 0 | Z49: 人 | AA49: =SUM(AA52,AA55) -> 0 | AC49: 人 | AD49: =SUM(AD52,AD55) -> 0 | AF49: 人
J50: 計 | L50: =SUM(O50,R50,U50,X50,AA50,AD50) -> 0 | N50: 人 | O50: =SUM(O48:P49) -> 0 | Q50: 人 | R50: =SUM(R48:S49) -> 0 | T50: 人 | U50: =SUM(U48:V49) -> 0 | W50: 人 | X50: =SUM(X48:Y49) -> 0 | Z50: 人 | AA50: =SUM(AA48:AB49) -> 0 | AC50: 人 | AD50: =SUM(AD48:AE49) -> 0 | AF50: 人 | AJ50: =SUM(AJ53,AJ56) -> 0 | AL50: 人
D51: 看護教員 | J51: 男性 | L51: =SUM(O51,R51,U51,X51,AA51,AD51) -> 0 | N51: 人 | Q51: 人 | T51: 人 | W51: 人 | Z51: 人 | AC51: 人 | AF51: 人 | AJ51: 看護教員の 未充足数を ご回答ください
J52: 女性 | L52: =SUM(O52,R52,U52,X52,AA52,AD52) -> 0 | N52: 人 | Q52: 人 | T52: 人 | W52: 人 | Z52: 人 | AC52: 人 | AF52: 人
J53: 計 | L53: =SUM(O53,R53,U53,X53,AA53,AD53) -> 0 | N53: 人 | O53: =SUM(O51:P52) -> 0 | Q53: 人 | R53: =SUM(R51:S52) -> 0 | T53: 人 | U53: =SUM(U51:V52) -> 0 | W53: 人 | X53: =SUM(X51:Y52) -> 0 | Z53: 人 | AA53: =SUM(AA51:AB52) -> 0 | AC53: 人 | AD53: =SUM(AD51:AE52) -> 0 | AF53: 人 | AL53: 人
D54: それ以外の教員 ＊上記看護教員 以外の教員 | J54: 男性 | L54: =SUM(O54,R54,U54,X54,AA54,AD54) -> 0 | N54: 人 | Q54: 人 | T54: 人 | W54: 人 | Z54: 人 | AC54: 人 | AF54: 人 | AJ54: それ以外の 教員の未充 足数をご回答ください
J55: 女性 | L55: =SUM(O55,R55,U55,X55,AA55,AD55) -> 0 | N55: 人 | Q55: 人 | T55: 人 | W55: 人 | Z55: 人 | AC55: 人 | AF55: 人
J56: 計 | L56: =SUM(O56,R56,U56,X56,AA56,AD56) -> 0 | N56: 人 | O56: =SUM(O54:P55) -> 0 | Q56: 人 | R56: =SUM(R54:S55) -> 0 | T56: 人 | U56: =SUM(U54:V55) -> 0 | W56: 人 | X56: =SUM(X54:Y55) -> 0 | Z56: 人 | AA56: =SUM(AA54:AB55) -> 0 | AC56: 人 | AD56: =SUM(AD54:AE55) -> 0 | AF56: 人 | AL56: 人
C68: Ｑ５．看護系学部・学科に所属する看護教員の年齢別人数を教えてください。〔各数値回答〕
I70: ① | L70: ② | O70: ③ | R70: ④ | U70: ⑤ | X70: ⑥ | AA70: ⑦ | AS70: 2012
I71: 合 計 | AS71: 2013
L72: 29歳以下 | O72: 30～39歳 | R72: 40～49歳 | U72: 50～59歳 | X72: 60～69歳 | AA72: 70歳以上 | AS72: 2014
D73: 看護教員 計 | I73: =SUM(L73,O73,R73,U73,X73,AA73) -> 0 | K73: 人 | N73: 人 | Q73: 人 | T73: 人 | W73: 人 | Z73: 人 | AC73: 人 | AS73: 2015
C76: Ｑ６．看護系学部・学科に所属する看護教員の最終修得学位別名称の人数を教えてください。〔各数値回答〕
I78: ① | L78: ② | O78: ③ | R78: ④ | U78: ⑤
I79: 合 計
L80: 学士 | O80: 修士 | R80: 博士 | U80: 学位なし
...

Sheet 会員コード表
A1: 会員コード | B1: 設置主体 | C1: 学校名
A2: 1001 | B2: 国立大学 | C2: 国立大学法人秋田大学医学部保健学科看護学専攻
A3: 1002 | B3: 国立大学 | C3: 旭川医科大学医学部看護学科
A4: 1003 | B4: 国立大学 | C4: 愛媛大学大学院医学系研究科看護学専攻
A5: 1004 | B5: 国立大学 | C5: 大分大学医学部看護学科
A6: 1005 | B6: 国立大学 | C6: 大阪大学大学院医学系研究科保健学専攻統合保健看護科学分野
A7: 1006 | B7: 国立大学 | C7: 岡山大学学術研究院保健学域看護学分野
A8: 1007 | B8: 国立大学 | C8: 香川大学医学部看護学科
A9: 1008 | B9: 国立大学 | C9: 鹿児島大学医学部保健学科看護学専攻
A10: 1009 | B10: 国立大学 | C10: 金沢大学医薬保健研究域保健学系看護科学領域
A11: 1010 | B11: 国立大学 | C11: 岐阜大学医学部看護学科
A12: 1011 | B12: 国立大学 | C12: 九州大学大学院医学研究院保健学部門看護学専攻
A13: 1012 | B13: 国立大学 | C13: 京都大学大学院医学研究科人間健康科学系専攻先端看護科学コース
... A313: 4002 | B313: 省庁立大学 | C313: 防衛医科大学校医学教育部看護学科

Sheet ①
A1: S―No | B1: 大学コード | C1: 大学名 | D1: 設置主体 | E1: 所属名 | F1: 名前 | G1: Ｑ１ 卒業生 | H1: Ｑ２ | L1: Ｑ３ | N1: Ｑ４全体 ①合計 | Q1: Ｑ４全体 ②教授 | T1: Ｑ４全体 ③准教授 | W1: Ｑ４全体 ④講師 | Z1: Ｑ４全体 ⑤助教 | AC1: Ｑ４全体 ⑥助手 | AF1: Ｑ４全体 ⑦その他 | AI1: Q4全体 ⑧未充足 | AJ1: Ｑ４看護教員 ①合計 | AM1: Ｑ４看護教員 ②教授 | AP1: Ｑ４看護教員 ③准教授 | AS1: Ｑ４看護教員 ④講師 | AV1: Ｑ４看護教員 ⑤助教 | AY1: Ｑ４看護教員 ⑥助手 | BB1: Ｑ４看護教員 ⑦その他 | BE1: Q4看護教員 ⑧未充足 | BF1: Ｑ４それ以外 ①合計 | BI1: Ｑ４それ以外 ②教授 | BL1: Ｑ４それ以外 ③准教授 | BO1: Ｑ４それ以外 ④講師 | BR1: Ｑ４それ以外 ⑤助教 | BU1: Ｑ４それ以外 ⑥助手 | BX1: Ｑ４それ以外 ⑦その他 | CA1: Q4それ以外 ⑧未充足 | CB1: Ｑ５ 看護教員 年齢別人数 | CI1: Ｑ６ ①合計 | CP1: Ｑ６ ②学士 | CW1: Ｑ６ ③修士 | DD1: Ｑ６ ④博士 | DK1: Ｑ６－⑤ | DL1: Ｑ７ | DM1: Ｑ８ | DN1: Ｑ９ | DO1: Ｑ10 | DP1: Ｑ11 | DQ1: Ｑ12－① 合計 | EI1: Ｑ12－② 教授 | FA1: Ｑ12－③ 准教授 | FS1: Ｑ12－④ 講師 | GK1: Ｑ12－⑤ 助教 | HC1: Ｑ12－⑥ 助手 | HU1: Ｑ12－⑦ その他
H2: 1 ３年次編入 | I2: 2 ２年次学士 | J2: 3 ３年次学士 | K2: 4 ない | L2: ①専修学校 | M2: ②短期大学 | N2: 男性 | O2: 女性 | P2: 計 | Q2: 男性 | R2: 女性 | S2: 計 | T2: 男性 | U2: 女性 | V2: 計 | W2: 男性 | X2: 女性 | Y2: 計 | Z2: 男性 | AA2: 女性 | AB2: 計 | AC2: 男性 | AD2: 女性 | AE2: 計 | AF2: 男性 | AG2: 女性 | AH2: 計 | AI2: 計 | AJ2: 男性 | AK2: 女性 | AL2: ★計 | AM2: 男性 | AN2: 女性 | AO2: 計 | AP2: 男性 | AQ2: 女性 | AR2: 計 | AS2: 男性 | AT2: 女性 | AU2: 計 | AV2: 男性 | AW2: 女性 | AX2: 計 | AY2: 男性 | AZ2: 女性 | BA2: 計 | BB2: 男性 | BC2: 女性 | BD2: 計 | BE2: 人数 | BF2: 男性 | BG2: 女性 | BH2: 計 | BI2: 男性 | BJ2: 女性 | BK2: 計 | BL2: 男性 | BM2: 女性 | BN2: 計 | BO2: 男性 | BP2: 女性 | BQ2: 計 | BR2: 男性 | BS2: 女性 | BT2: 計 | BU2: 男性 | BV2: 女性 | BW2: 計 | BX2: 男性 | BY2: 女性 | BZ2: 計 | CA2: 人数 | CB2: ①★合計 | CC2: ②29歳以下 | CD2: ③30～39歳 | CE2: ④40～49歳 | CF2: ⑤50～59歳 | CG2: ⑥60～69歳 | CH2: ⑦70歳以上 | CI2: ★看護教員計 | CJ2: 看護学 | CK2: 保健学 | CL2: 医学 | CM2: 教育学 | CN2: 学術 | CO2: その他 | CP2: 看護教員計 | CQ2: 看護学 | CR2: 保健学 | CS2: 医学 | CT2: 教育学 | CU2: 学術 | CV2: その他 | CW2: 看護教員計 | CX2: 看護学 | CY2: 保健学 | CZ2: 医学 | DA2: 教育学 | DB2: 学術 | DC2: その他 | DD2: 看護教員計 | DE2: 看護学 | DF2: 保健学 | DG2: 医学 | DH2: 教育学 | DI2: 学術 | DJ2: その他 | DK2: 学位なし | DQ2: 全体（男） | DR2: 全体（女） | DS2: 全体（計） | DT2: 全体 大学院専任（男） | DU2: 全体 大学院専任（女） | DV2: 全体 大学院専任（計） | DW2: 看護教員（男） | DX2: 看護教員（女） | DY2: 看護教員（計） | DZ2: 看護教員 大学院専任（男） | EA2: 看護教員 大学院専任（女） | EB2: 看護教員 大学院専任（計） | EC2: それ以外（男） | ED2: それ以外（女） | EE2: それ以外（計） | EF2: それ以外 大学院専任（男） | EG2: それ以外 大学院専任（女） | EH2: それ以外 大学院専任（計） | EI2: 全体（男） | EJ2: 全体（女） | EK2: 全体（計） | EL2: 全体 大学院専任（男） | EM2: 全体 大学院専任（女） | EN2: 全体 大学院専任（計） | EO2: 看護教員（男） | EP2: 看護教員（女） | EQ2: 看護教員（計） | ER2: 看護教員 内、大学院専任（男） | ES2: 看護教員 内、大学院専任（女） | ET2: 看護教員 大学院専任（計） | EU2: それ以外（男） | EV2: それ以外（女） | EW2: それ以外（計） | EX2: それ以外 内、大学院専任（男） | EY2: それ以外 内、大学院専任（女） | EZ2: それ以外 大学院専任（計） | FA2: 全体（男） | FB2: 全体（女） | FC2: 全体（計） | FD2: 全体 大学院専任（男） | FE2: 全体 大学院専任（女） | FF2: 全体 大学院専任（計） | FG2: 看護教員（男） | FH2: 看護教員（女） | FI2: 看護教員（計） | FJ2: 看護教員 内、大学院専任（男） | FK2: 看護教員 内、大学院専任（女） | FL2: 看護教員 大学院専任（計） | FM2: それ以外（男） | FN2: それ以外（女） | FO2: それ以外（計） | FP2: それ以外 内、大学院専任（男） | FQ2: それ以外 内、大学院専任（女） | FR2: それ以外 大学院専任（計） | FS2: 全体（男） | FT2: 全体（女） | FU2: 全体（計） | FV2: 全体 大学院専任（男） | FW2: 全体 大学院専任（女） | FX2: 全体 大学院専任（計） | FY2: 看護教員（男） | FZ2: 看護教員（女） | GA2: 看護教員（計） | GB2: 看護教員 内、大学院専任（男） | GC2: 看護教員 内、大学院専任（女） | GD2: 看護教員 大学院専任（計） | GE2: それ以外（男） | GF2: それ以外（女） | GG2: それ以外（計） | GH2: それ以外 内、大学院専任（男） | GI2: それ以外 内、大学院専任（女） | GJ2: それ以外 大学院専任（計） | GK2: 全体（男） | GL2: 全体（女） | GM2: 全体（計） | GN2: 全体 大学院専任（男） | GO2: 全体 大学院専任（女） | GP2: 全体 大学院専任（計） | GQ2: 看護教員（男） | GR2: 看護教員（女） | GS2: 看護教員（計） | GT2: 看護教員 内、大学院専任（男） | GU2: 看護教員 内、大学院専任（女） | GV2: 看護教員 大学院専任（計） | GW2: それ以外（男） | GX2: それ以外（女） | GY2: それ以外（計） | GZ2: それ以外 内、大学院専任（男） | HA2: それ以外 内、大学院専任（女） | HB2: それ以外 大学院専任（計） | HC2: 全体（男） | HD2: 全体（女） | HE2: 全体（計） | HF2: 全体 大学院専任（男） | HG2: 全体 大学院専任（女） | HH2: 全体 大学院専任（計） | HI2: 看護教員（男） | HJ2: 看護教員（女） | HK2: 看護教員（計） | HL2: 看護教員 内、大学院専任（男） | HM2: 看護教員 内、大学院専任（女） | HN2: 看護教員 大学院専任（計） | HO2: それ以外（男） | HP2: それ以外（女） | HQ2: それ以外（計） | HR2: それ以外 内、大学院専任（男） | HS2: それ以外 内、大学院専任（女） | HT2: それ以外 大学院専任（計） | HU2: 全体（男） | HV2: 全体（女） | HW2: 全体（計） | HX2: 全体 大学院専任（男） | HY2: 全体 大学院専任（女） | HZ2: 全体 大学院専任（計） | IA2: 看護教員（男） | IB2: 看護教員（女） | IC2: 看護教員（計） | ID2: 看護教員 内、大学院専任（男） | IE2: 看護教員 内、大学院専任（女） | IF2: 看護教員 大学院専任（計） | IG2: それ以外（男） | IH2: それ以外（女） | II2: それ以外（計） | IJ2: それ以外 内、大学院専任（男） | IK2: それ以外 内、大学院専任（女） | IL2: それ以外 大学院専任（計）
B3: =IF(調査票!$H$19="","",調査票!$H$19) | C3: =IF(調査票!$H$21="","",調査票!$H$21) | D3: =IF(調査票!$H$23="","",調査票!$H$23) | E3: =IF(調査票!$K$25="","",調査票!$K$25) | F3: =IF(調査票!$Y$25="","",調査票!$Y$25) | G3: =IF(調査票!$AT$29="","",調査票!$AT$29) | L3: =IF(調査票!$D$40="","",調査票!$D$40) | M3: =IF(調査票!$K$40="","",調査票!$K$40) | N3: =IF(調査票!$L$48="","",調査票!$L$48) -> 0 | O3: =IF(調査票!$L$49="","",調査票!$L$49) -> 0 | P3: =IF(調査票!$L$50="","",調査票!$L$50) -> 0 | Q3: =IF(調査票!$O$48="","",調査票!$O$48) -> 0 | R3: =IF(調査票!$O$49="","",調査票!$O$49) -> 0 | S3: =IF(調査票!$O$50="","",調査票!$O$50) -> 0 | T3: =IF(調査票!$R$48="","",調査票!$R$48) -> 0 | U3: =IF(調査票!$R$49="","",調査票!$R$49) -> 0 | V3: =IF(調査票!$R$50="","",調査票!$R$50) -> 0 | W3: =IF(調査票!$U$48="","",調査票!$U$48) -> 0 | X3: =IF(調査票!$U$49="","",調査票!$U$49) -> 0 | Y3: =IF(調査票!$U$50="","",調査票!$U$50) -> 0 | Z3: =IF(調査票!$X$48="","",調査票!$X$48) -> 0 | AA3: =IF(調査票!$X$49="","",調査票!$X$49) -> 0 | AB3: =IF(調査票!$X$50="","",調査票!$X$50) -> 0 | AC3: =IF(調査票!$AA$48="","",調査票!$AA$48) -> 0 | AD3: =IF(調査票!$AA$49="","",調査票!$AA$49) -> 0 | AE3: =IF(調査票!$AA$50="","",調査票!$AA$50) -> 0 | AF3: =IF(調査票!$AD$48="","",調査票!$AD$48) -> 0 | AG3: =IF(調査票!$AD$49="","",調査票!$AD$49) -> 0 | AH3: =IF(調査票!$AD$50="","",調査票!$AD$50) -> 0 | AI3: =IF(調査票!$AJ$50="","",調査票!$AJ$50) -> 0 | AJ3: =IF(調査票!$L$51="","",調査票!$L$51) -> 0 | AK3: =IF(調査票!$L$52="","",調査票!$L$52) -> 0 | AL3: =IF(調査票!$L$53="","",調査票!$L$53) -> 0 | AM3: =IF(調査票!$O$51="","",調査票!$O$51) | AN3: =IF(調査票!$O$52="","",調査票!$O$52) | AO3: =IF(調査票!$O$53="","",調査票!$O$53) -> 0 | AP3: =IF(調査票!$R$51="","",調査票!$R$51) | AQ3: =IF(調査票!$R$52="","",調査票!$R$52) | AR3: =IF(調査票!$R$53="","",調査票!$R$53) -> 0 | AS3: =IF(調査票!$U$51="","",調査票!$U$51) | AT3: =IF(調査票!$U$52="","",調査票!$U$52) | AU3: =IF(調査票!$U$53="","",調査票!$U$53) -> 0 | AV3: =IF(調査票!$X$51="","",調査票!$X$51) | AW3: =IF(調査票!$X$52="","",調査票!$X$52) | AX3: =IF(調査票!$X$53="","",調査票!$X$53) -> 0 | AY3: =IF(調査票!$AA$51="","",調査票!$AA$51) | AZ3: =IF(調査票!$AA$52="","",調査票!$AA$52) | BA3: =IF(調査票!$AA$53="","",調査票!$AA$53) -> 0 | BB3: =IF(調査票!$AD$51="","",調査票!$AD$51) | BC3: =IF(調査票!$AD$52="","",調査票!$AD$52) | BD3: =IF(調査票!$AD$53="","",調査票!$AD$53) -> 0 | BE3: =IF(調査票!$AJ$53="","",調査票!$AJ$53) | BF3: =IF(調査票!$L$54="","",調査票!$L$54) -> 0 | BG3: =IF(調査票!$L$55="","",調査票!$L$55) -> 0 | BH3: =IF(調査票!$L$56="","",調査票!$L$56) -> 0 | BI3: =IF(調査票!$O$54="","",調査票!$O$54) | BJ3: =IF(調査票!$O$55="","",調査票!$O$55) | BK3: =IF(調査票!$O$56="","",調査票!$O$56) -> 0 | BL3: =IF(調査票!$R$54="","",調査票!$R$54) | BM3: =IF(調査票!$R$55="","",調査票!$R$55) | BN3: =IF(調査票!$R$56="","",調査票!$R$56) -> 0 | BO3: =IF(調査票!$U$54="","",調査票!$U$54) | BP3: =IF(調査票!$U$55="","",調査票!$U$55) | BQ3: =IF(調査票!$U$56="","",調査票!$U$56) -> 0 | BR3: =IF(調査票!$X$54="","",調査票!$X$54) | BS3: =IF(調査票!$X$55="","",調査票!$X$55) | BT3: =IF(調査票!$X$56="","",調査票!$X$56) -> 0 | BU3: =IF(調査票!$AA$54="","",調査票!$AA$54) | BV3: =IF(調査票!$AA$55="","",調査票!$AA$55) | BW3: =IF(調査票!$AA$56="","",調査票!$AA$56) -> 0 | BX3: =IF(調査票!$AD$54="","",調査票!$AD$54) | BY3: =IF(調査票!$AD$55="","",調査票!$AD$55) | BZ3: =IF(調査票!$AD$56="","",調査票!$AD$56) -> 0 | CA3: =IF(調査票!$AJ$56="","",調査票!$AJ$56) | CB3: =IF(調査票!$I$73="","",調査票!$I$73) -> 0 | CC3: =IF(調査票!$L$73="","",調査票!$L$73) | CD3: =IF(調査票!$O$73="","",調査票!$O$73) | CE3: =IF(調査票!$R$73="","",調査票!$R$73) | CF3: =IF(調査票!$U$73="","",調査票!$U$73) | CG3: =IF(調査票!$X$73="","",調査票!$X$73) | CH3: =IF(調査票!$AA$73="","",調査票!$AA$73) | CI3: =IF(調査票!$I$81="","",調査票!$I$81) -> 0 | CJ3: =IF(調査票!$I$82="","",調査票!$I$82) -> 0 | CK3: =IF(調査票!$I$83="","",調査票!$I$83) -> 0 | CL3: =IF(調査票!$I$84="","",調査票!$I$84) -> 0 | CM3: =IF(調査票!$I$85="","",調査票!$I$85) -> 0 | CN3: =IF(調査票!$I$86="","",調査票!$I$86) -> 0 | CO3: =IF(調査票!$I$87="","",調査票!$I$87) -> 0 | CP3: =IF(調査票!$L$81="","",調査票!$L$81) -> 0 | CQ3: =IF(調査票!$L$82="","",調査票!$L$82) | CR3: =IF(調査票!$L$83="","",調査票!$L$83) | CS3: =IF(調査票!$L$84="","",調査票!$L$84) | CT3: =IF(調査票!$L$85="","",調査票!$L$85) | CU3: =IF(調査票!$L$86="","",調査票!$L$86) | CV3: =IF(調査票!$L$87="","",調査票!$L$87) | CW3: =IF(調査票!$O$81="","",調査票!$O$81) -> 0 | CX3: =IF(調査票!$O$82="","",調査票!$O$82) | CY3: =IF(調査票!$O$83="","",調査票!$O$83) | CZ3: =IF(調査票!$O$84="","",調査票!$O$84) | DA3: =IF(調査票!$O$85="","",調査票!$O$85) | DB3: =IF(調査票!$O$86="","",調査票!$O$86) | DC3: =IF(調査票!$O$87="","",調査票!$O$87) | DD3: =IF(調査票!$R$81="","",調査票!$R$81) -> 0 | DE3: =IF(調査票!$R$82="","",調査票!$R$82) | DF3: =IF(調査票!$R$83="","",調査票!$R$83) | DG3: =IF(調査票!$R$84="","",調査票!$R$84) | DH3: =IF(調査票!$R$85="","",調査票!$R$85) | DI3: =IF(調査票!$R$86="","",調査票!$R$86) | DJ3: =IF(調査票!$R$87="","",調査票!$R$87) | DK3: =IF(調査票!$U$81="","",調査票!$U$81) | DL3: =IF(調査票!$AT$93="","",調査票!$AT$93) | DM3: =IF(調査票!$AT$98="","",調査票!$AT$98) | DN3: =IF(調査票!$AT$103="","",調査票!$AT$103) | DO3: =IF(調査票!$AT$108="","",調査票!$AT$108) | DP3: =IF(調査票!$AT$113="","",調査票!$AT$113) | DQ3: =IF(調査票!$L$123="","",調査票!$L$123) -> 0 | DR3: =IF(調査票!$L$124="","",調査票!$L$124) -> 0 | DS3: =IF(調査票!$L$125="","",調査票!$L$125) -> 0 | DT3: =IF(調査票!$L$126="","",調査票!$L$126) -> 0 | DU3: =IF(調査票!$L$127="","",調査票!$L$127) -> 0 | DV3: =IF(調査票!$L$128="","",調査票!$L$128) -> 0 | DW3: =IF(調査票!$L$129="","",調査票!$L$129) -> 0 | DX3: =IF(調査票!$L$130="","",調査票!$L$130) -> 0 | DY3: =IF(調査票!$L$131="","",調査票!$L$131) -> 0 | DZ3: =IF(調査票!$L$132="","",調査票!$L$132) -> 0 | EA3: =IF(調査票!$L$133="","",調査票!$L$133) -> 0 | EB3: =IF(調査票!$L$134="","",調査票!$L$134) -> 0 | EC3: =IF(調査票!$L$135="","",調査票!$L$135) -> 0 | ED3: =IF(調査票!$L$136="","",調査票!$L$136) -> 0 | EE3: =IF(調査票!$L$137="","",調査票!$L$137) -> 0 | EF3: =IF(調査票!$L$138="","",調査票!$L$138) -> 0 | EG3: =IF(調査票!$L$139="","",調査票!$L$139) -> 0 | EH3: =IF(調査票!$L$140="","",調査票!$L$140) -> 0 | EI3: =IF(調査票!$O$123="","",調査票!$O$123) -> 0 | EJ3: =IF(調査票!$O$124="","",調査票!$O$124) -> 0 | EK3: =IF(調査票!$O$125="","",調査票!$O$125) -> 0 | EL3: =IF(調査票!$O$126="","",調査票!$O$126) -> 0 | EM3: =IF(調査票!$O$127="","",調査票!$O$127) -> 0 | EN3: =IF(調査票!$O$128="","",調査票!$O$128) -> 0 | EO3: =IF(調査票!$O$129="","",調査票!$O$129) | EP3: =IF(調査票!$O$130="","",調査票!$O$130) | EQ3: =IF(調査票!$O$131="","",調査票!$O$131) -> 0 | ER3: =IF(調査票!$O$132="","",調査票!$O$132) | ES3: =IF(調査票!$O$133="","",調査票!$O$133) | ET3: =IF(調査票!$O$134="","",調査票!$O$134) -> 0 | EU3: =IF(調査票!$O$135="","",調査票!$O$135) | EV3: =IF(調査票!$O$136="","",調査票!$O$136) | EW3: =IF(調査票!$O$137="","",調査票!$O$137) -> 0 | EX3: =IF(調査票!$O$138="","",調査票!$O$138) | EY3: =IF(調査票!$O$139="","",調査票!$O$139) | EZ3: =IF(調査票!$O$140="","",調査票!$O$140) -> 0 | FA3: =IF(調査票!$R$123="","",調査票!$R$123) -> 0 | FB3: =IF(調査票!$R$124="","",調査票!$R$124) -> 0 | FC3: =IF(調査票!$R$125="","",調査票!$R$125) -> 0 | FD3: =IF(調査票!$R$126="","",調査票!$R$126) -> 0 | FE3: =IF(調査票!$R$127="","",調査票!$R$127) -> 0 | FF3: =IF(調査票!$R$128="","",調査票!$R$128) -> 0 | FG3: =IF(調査票!$R$129="","",調査票!$R$129) | FH3: =IF(調査票!$R$130="","",調査票!$R$130) | FI3: =IF(調査票!$R$131="","",調査票!$R$131) -> 0 | FJ3: =IF(調査票!$R$132="","",調査票!$R$132) | FK3: =IF(調査票!$R$133="","",調査票!$R$133) | FL3: =IF(調査票!$R$134="","",調査票!$R$134) -> 0 | FM3: =IF(調査票!$R$135="","",調査票!$R$135) | FN3: =IF(調査票!$R$136="","",調査票!$R$136) | FO3: =IF(調査票!$R$137="","",調査票!$R$137) -> 0 | FP3: =IF(調査票!$R$138="","",調査票!$R$138) | FQ3: =IF(調査票!$R$139="","",調査票!$R$139) | FR3: =IF(調査票!$R$140="","",調査票!$R$140) -> 0 | FS3: =IF(調査票!$U$123="","",調査票!$U$123) -> 0 | FT3: =IF(調査票!$U$124="","",調査票!$U$124) -> 0 | FU3: =IF(調査票!$U$125="","",調査票!$U$125) -> 0 | FV3: =IF(調査票!$U$126="","",調査票!$U$126) -> 0 | FW3: =IF(調査票!$U$127="","",調査票!$U$127) -> 0 | FX3: =IF(調査票!$U$128="","",調査票!$U$128) -> 0 | FY3: =IF(調査票!$U$129="","",調査票!$U$129) | FZ3: =IF(調査票!$U$130="","",調査票!$U$130) | GA3: =IF(調査票!$U$131="","",調査票!$U$131) -> 0 | GB3: =IF(調査票!$U$132="","",調査票!$U$132) | GC3: =IF(調査票!$U$133="","",調査票!$U$133) | GD3: =IF(調査票!$U$134="","",調査票!$U$134) -> 0 | GE3: =IF(調査票!$U$135="","",調査票!$U$135) | GF3: =IF(調査票!$U$136="","",調査票!$U$136) | GG3: =IF(調査票!$U$137="","",調査票!$U$137) -> 0 | GH3: =IF(調査票!$U$138="","",調査票!$U$138) | GI3: =IF(調査票!$U$139="","",調査票!$U$139) | GJ3: =IF(調査票!$U$140="","",調査票!$U$140) -> 0 | GK3: =IF(調査票!$X$123="","",調査票!$X$123) -> 0 | GL3: =IF(調査票!$X$124="","",調査票!$X$124) -> 0 | GM3: =IF(調査票!$X$125="","",調査票!$X$125) -> 0 | GN3: =IF(調査票!$X$126="","",調査票!$X$126) -> 0 | GO3: =IF(調査票!$X$127="","",調査票!$X$127) -> 0 | GP3: =IF(調査票!$X$128="","",調査票!$X$128) -> 0 | GQ3: =IF(調査票!$X$129="","",調査票!$X$129) | GR3: =IF(調査票!$X$130="","",調査票!$X$130) | GS3: =IF(調査票!$X$131="","",調査票!$X$131) -> 0 | GT3: =IF(調査票!$X$132="","",調査票!$X$132) | GU3: =IF(調査票!$X$133="","",調査票!$X$133) | GV3: =IF(調査票!$X$134="","",調査票!$X$134) -> 0 | GW3: =IF(調査票!$X$135="","",調査票!$X$135) | GX3: =IF(調査票!$X$136="","",調査票!$X$136) | GY3: =IF(調査票!$X$137="","",調査票!$X$137) -> 0 | GZ3: =IF(調査票!$X$138="","",調査票!$X$138) | HA3: =IF(調査票!$X$139="","",調査票!$X$139) | HB3: =IF(調査票!$X$140="","",調査票!$X$140) -> 0 | HC3: =IF(調査票!$AA$123="","",調査票!$AA$123) -> 0 | HD3: =IF(調査票!$AA$124="","",調査票!$AA$124) -> 0 | HE3: =IF(調査票!$AA$125="","",調査票!$AA$125) -> 0 | HF3: =IF(調査票!$AA$126="","",調査票!$AA$126) -> 0 | HG3: =IF(調査票!$AA$127="","",調査票!$AA$127) -> 0 | HH3: =IF(調査票!$AA$128="","",調査票!$AA$128) -> 0 | HI3: =IF(調査票!$AA$129="","",調査票!$AA$129) | HJ3: =IF(調査票!$AA$130="","",調査票!$AA$130) | HK3: =IF(調査票!$AA$131="","",調査票!$AA$131) -> 0 | HL3: =IF(調査票!$AA$132="","",調査票!$AA$132) | HM3: =IF(調査票!$AA$133="","",調査票!$AA$133) | HN3: =IF(調査票!$AA$134="","",調査票!$AA$134) -> 0 | HO3: =IF(調査票!$AA$135="","",調査票!$AA$135) | HP3: =IF(調査票!$AA$136="","",調査票!$AA$136) | HQ3: =IF(調査票!$AA$137="","",調査票!$AA$137) -> 0 | HR3: =IF(調査票!$AA$138="","",調査票!$AA$138) | HS3: =IF(調査票!$AA$139="","",調査票!$AA$139) | HT3: =IF(調査票!$AA$140="","",調査票!$AA$140) -> 0 | HU3: =IF(調査票!$AD$123="","",調査票!$AD$123) -> 0 | HV3: =IF(調査票!$AD$124="","",調査票!$AD$124) -> 0 | HW3: =IF(調査票!$AD$125="","",調査票!$AD$125) -> 0 | HX3: =IF(調査票!$AD$126="","",調査票!$AD$126) -> 0 | HY3: =IF(調査票!$AD$127="","",調査票!$AD$127) -> 0 | HZ3: =IF(調査票!$AD$128="","",調査票!$AD$128) -> 0 | IA3: =IF(調査票!$AD$129="","",調査票!$AD$129) | IB3: =IF(調査票!$AD$130="","",調査票!$AD$130) | IC3: =IF(調査票!$AD$131="","",調査票!$AD$131) -> 0 | ID3: =IF(調査票!$AD$132="","",調査票!$AD$132) | IE3: =IF(調査票!$AD$133="","",調査票!$AD$133) | IF3: =IF(調査票!$AD$134="","",調査票!$AD$134) -> 0 | IG3: =IF(調査票!$AD$135="","",調査票!$AD$135) | IH3: =IF(調査票!$AD$136="","",調査票!$AD$136) | II3: =IF(調査票!$AD$137="","",調査票!$AD$137) -> 0 | IJ3: =IF(調査票!$AD$138="","",調査票!$AD$138) | IK3: =IF(調査票!$AD$139="","",調査票!$AD$139) | IL3: =IF(調査票!$AD$140="","",調査票!$AD$140) -> 0

Sheet ②
A1: S―No | B1: 大学コード | C1: 大学名 | D1: Ｑ13 ①合計 | J1: Ｑ13 ②男 | P1: Ｑ13 ③女 | V1: Ｑ14 ①入学定員 | AC1: Ｑ14 ②志願者数 計 | AS1: Ｑ14 ③志願者数 男 | BI1: Ｑ14 ④志願者数 女 | BY1: Ｑ14 ⑤入学者数 計 | CO1: Ｑ14 ⑥入学者数 男 | DE1: Ｑ14 ⑦入学者数 女 | DU1: Ｑ14 ⑧入学定員不明 | EA1: Ｑ15 ①卒業生・修了生 | ER1: Ｑ15 ②看護師 | EU1: Ｑ15 ③保健師 | EY1: Ｑ15 ④助産師 | FC1: Ｑ15 ⑤養護教諭１種 | FE1: Ｑ１６ ①学部卒業生 | FV1: Ｑ１６ ②高度実践 | GM1: Ｑ１６ ③修士修了生 合計 | HD1: Ｑ１６ ④博士後期課程 | HU1: Ｑ１６ | HV1: Ｑ17 ①申請件数 | IM1: Ｑ17 ②採択件数 | JD1: Ｑ17 ③継続件数 | JV1: Ｑ17 ④研究費合計 | KN1: Ｑ17
D2: 学部生 | E2: うち編入学 | F2: 保健師専攻科・別科生 | G2: 助産師専攻科・別科生 | H2: 修士課程/博士前期 | I2: 博士後期 | J2: 学部生 | K2: うち編入学 | L2: 保健師専攻科・別科生 | M2: 助産師専攻科・別科生 | N2: 修士課程/博士前期 | O2: 博士後期 | P2: 学部生 | Q2: うち編入学 | R2: 保健師専攻科・別科生 | S2: 助産師専攻科・別科生 | T2: 修士課程/博士前期 | U2: 博士後期 | V2: 学部生 | W2: うち編入学生 | X2: 保健師専攻科・別科生 | Y2: 助産師専攻科・別科生 | Z2: 修士課程/博士前期 | AA2: 博士後期課程院生 | AB2: DNPコース | AC2: 学部生 | AD2: うち編入学生 | AE2: 保健師専攻科・別科生 | AF2: 助産師専攻科・別科生 | AG2: 修士課程/博士前期 | AH2: 研究コース | AI2: 専門看護師課程 | AJ2: NP1 | AK2: NP2 | AL2: NP3 | AM2: 保健師コース | AN2: 助産師コース | AO2: 養護教諭専修コース | AP2: 上記以外のコース | AQ2: 博士後期課程院生 | AR2: DNPコース | AS2: 学部生 | AT2: うち編入学生 | AU2: 保健師専攻科・別科生 | AV2: 助産師専攻科・別科生 | AW2: 修士課程/博士前期 | AX2: 研究コース | AY2: 専門看護師課程 | AZ2: NP1 | BA2: NP2 | BB2: NP3 | BC2: 保健師コース | BD2: 助産師コース | BE2: 養護教諭専修コース | BF2: 上記以外のコース | BG2: 博士後期課程院生 | BH2: DNPコース | BI2: 学部生 | BJ2: うち編入学生 | BK2: 保健師専攻科・別科生 | BL2: 助産師専攻科・別科生 | BM2: 修士課程/博士前期 | BN2: 研究コース | BO2: 専門看護師課程 | BP2: NP1 | BQ2: NP2 | BR2: NP3 | BS2: 保健師コース | BT2: 助産師コース | BU2: 養護教諭専修コース | BV2: 上記以外のコース | BW2: 博士後期課程院生 | BX2: DNPコース | BY2: 学部生 | BZ2: うち編入学生 | CA2: 保健師専攻科・別科生 | CB2: 助産師専攻科・別科生 | CC2: 修士課程/博士前期 | CD2: 研究コース | CE2: 専門看護師課程 | CF2: NP1 | CG2: NP2 | CH2: NP3 | CI2: 保健師コース | CJ2: 助産師コース | CK2: 養護教諭専修コース | CL2: 上記以外のコース | CM2: 博士後期課程院生 | CN2: DNPコース | CO2: 学部生 | CP2: うち編入学生 | CQ2: 保健師専攻科・別科生 | CR2: 助産師専攻科・別科生 | CS2: 修士課程/博士前期 | CT2: 研究コース | CU2: 専門看護師課程 | CV2: NP1 | CW2: NP2 | CX2: NP3 | CY2: 保健師コース | CZ2: 助産師コース | DA2: 養護教諭専修コース | DB2: 上記以外のコース | DC2: 博士後期課程院生 | DD2: DNPコース | DE2: 学部生 | DF2: うち編入学生 | DG2: 保健師専攻科・別科生 | DH2: 助産師専攻科・別科生 | DI2: 修士課程/博士前期 | DJ2: 研究コース | DK2: 専門看護師課程 | DL2: NP1 | DM2: NP2 | DN2: NP3 | DO2: 保健師コース | DP2: 助産師コース | DQ2: 養護教諭専修コース | DR2: 上記以外のコース | DS2: 博士後期課程院生 | DT2: DNPコース | DU2: 学部生 定員不明 | DV2: うち編入学 定員不明 | DW2: 保健師専攻・別科 定員不明 | DX2: 助産師専攻・別科 定員不明 | DY2: 修士課程／博士前期 定員不明 | DZ2: 博士後期 定員不明 | EA2: 学部卒業 | EB2: うち編入学生 | EC2: 保健師専攻科生・別科生 | ED2: 助産師専攻科生・別科生 | EE2: 修士課程/博士前期 | EF2: 研究コース | EG2: 専門看護師課程 | EH2: NP1 | EI2: NP2 | EJ2: NP3 | EK2: 保健師コース | EL2: 助産師コース | EM2: 養護教諭専修コース | EN2: 上記以外のコース | EO2: 博士後期課程修了 | EP2: DNPコース | EQ2: 論文博士号取得 | ER2: 学部卒業 | ES2: うち編入学生 | ET2: 修士課程/博士前期 | EU2: 学部卒業 | EV2: うち編入学生 | EW2: 保健師専攻科・別科終了 | EX2: 修士課程/博士前期 | EY2: 学部卒業 | EZ2: うち編入学生 | FA2: 助産師専攻科・別科終了 | FB2: 修士課程/博士前期 | FC2: 学部卒業 | FD2: うち編入学生 | FE2: 病院・診療所 | FF2: 介護・福祉施設関係 | FG2: 訪問看護ステーション | FH2: 都道府県・市町村・健診機関 | FI2: 企業 | FJ2: 学校（教諭として） | FK2: 大学・短大・研究機関等 | FL2: 専修・各種学校 | FM2: その他（行政職を含む） | FN2: 国内の大学院（看護系） | FO2: 国内の大学院（看護系以外） | FP2: 助産師課程(専攻科、別科、専修学校等) | FQ2: 保健師課程(専攻科、専修学校等) | FR2: 国内の他学部 | FS2: 海外留学 | FT2: その他（進学者） | FU2: その他（全体） | FV2: 病院・診療所 | FW2: 介護・福祉施設関係 | FX2: 訪問看護ステーション | FY2: 都道府県・市町村・健診機関 | FZ2: 企業 | GA2: 学校（教諭として） | GB2: 大学・短大・研究機関等 | GC2: 専修・各種学校 | GD2: その他（行政職を含む） | GE2: 国内の大学院（看護系） | GF2: 国内の大学院（看護系以外） | GG2: 助産師課程(専攻科、別科、専修学校等) | GH2: 保健師課程(専攻科、専修学校等) | GI2: 国内の他学部 | GJ2: 海外留学 | GK2: その他（進学者） | GL2: その他（全体） | GM2: 病院・診療所 | GN2: 介護・福祉施設関係 | GO2: 訪問看護ステーション | GP2: 都道府県・市町村・健診機関 | GQ2: 企業 | GR2: 学校（教諭として） | GS2: 大学・短大・研究機関等 | GT2: 専修・各種学校 | GU2: その他（行政職を含む） | GV2: 国内の大学院（看護系） | GW2: 国内の大学院（看護系以外） | GX2: 助産師課程(専攻科、別科、専修学校等) | GY2: 保健師課程(専攻科、専修学校等) | GZ2: 国内の他学部 | HA2: 海外留学 | HB2: その他（進学者） | HC2: その他（全体） | HD2: 病院・診療所 | HE2: 介護・福祉施設関係 | HF2: 訪問看護ステーション | HG2: 都道府県・市町村・健診機関 | HH2: 企業 | HI2: 学校（教諭として） | HJ2: 大学・短大・研究機関等 | HK2: 専修・各種学校 | HL2: その他（行政職を含む） | HM2: 国内の大学院（看護系） | HN2: 国内の大学院（看護系以外） | HO2: 助産師課程(専攻科、別科、専修学校等) | HP2: 保健師課程(専攻科、専修学校等) | HQ2: 国内の他学部 | HR2: 海外留学 | HS2: その他（進学者） | HT2: その他（全体） | HU2: その他内容 | HV2: 基盤研究（Ｓ） | HW2: 基盤研究（Ａ） | HX2: 基盤研究（Ｂ） | HY2: 基盤研究（Ｃ） | HZ2: 挑戦的研究（開拓） | IA2: 挑戦的研究（萌芽） | IB2: 若手研究 | IC2: 特別推進研究 | ID2: 新学術領域研究 | IE2: 研究活動スタート支援 | IF2: その他 | IG2: 厚生労働科学研究費補助金 | IH2: 財団・学会等による研究助成金 | II2: 企業等による教育研究奨励費 | IJ2: 企業等による受託研究費 | IK2: 日本医療研究開発機構（AMED）による研究費 | IL2: その他 | IM2: 基盤研究（Ｓ） | IN2: 基盤研究（Ａ） | IO2: 基盤研究（Ｂ） | IP2: 基盤研究（Ｃ） | IQ2: 挑戦的研究（開拓） | IR2: 挑戦的研究（萌芽） | IS2: 若手研究 | IT2: 特別推進研究 | IU2: 新学術領域研究 | IV2: 研究活動スタート支援 | IW2: その他 | IX2: 厚生労働科学研究費補助金 | IY2: 財団・学会等による研究助成金 | IZ2: 企業等による教育研究奨励費 | JA2: 企業等による受託研究費 | JB2: 日本医療研究開発機構（AMED）による研究費 | JC2: その他 | JD2: 基盤研究（Ｓ） | JE2: 基盤研究（Ａ） | JF2: 基盤研究（Ｂ） | JG2: 基盤研究（Ｃ） | JH2: 挑戦的萌芽研究 | JI2: 挑戦的研究（開拓） | JJ2: 挑戦的研究（萌芽） | JK2: 若手研究 | JL2: 特別推進研究 | JM2: 新学術領域研究 | JN2: 研究活動スタート支援 | JO2: その他 | JP2: 厚生労働科学研究費補助金 | JQ2: 財団・学会等による研究助成金 | JR2: 企業等による教育研究奨励費 | JS2: 企業等による受託研究費 | JT2: 日本医療研究開発機構（AMED）による研究費 | JU2: その他 | JV2: 基盤研究（Ｓ） | JW2: 基盤研究（Ａ） | JX2: 基盤研究（Ｂ） | JY2: 基盤研究（Ｃ） | JZ2: 挑戦的萌芽研究 | KA2: 挑戦的研究（開拓） | KB2: 挑戦的研究（萌芽） | KC2: 若手研究 | KD2: 特別推進研究 | KE2: 新学術領域研究 | KF2: 研究活動スタート支援 | KG2: その他 | KH2: 厚生労働科学研究費補助金 | KI2: 財団・学会等による研究助成金 | KJ2: 企業等による教育研究奨励費 | KK2: 企業等による受託研究費 | KL2: 日本医療研究開発機構（AMED）による研究費 | KM2: その他 | KN2: その他ＦＡ
B3: =IF(調査票!$H$19="","",調査票!$H$19) | C3: =IF(調査票!$H$21="","",調査票!$H$21) | D3: =IF(調査票!$O$174="","",調査票!$O$174) -> 0 | E3: =IF(調査票!$O$175="","",調査票!$O$175) -> 0 | F3: =IF(調査票!$O$177="","",調査票!$O$177) -> 0 | G3: =IF(調査票!$O$178="","",調査票!$O$178) -> 0 | H3: =IF(調査票!$O$180="","",調査票!$O$180) -> 0 | I3: =IF(調査票!$O$181="","",調査票!$O$181) -> 0 | J3: =IF(調査票!$R$174="","",調査票!$R$174) | K3: =IF(調査票!$R$175="","",調査票!$R$175) | L3: =IF(調査票!$R$177="","",調査票!$R$177) | M3: =IF(調査票!$R$178="","",調査票!$R$178) | N3: =IF(調査票!$R$180="","",調査票!$R$180) | O3: =IF(調査票!$R$181="","",調査票!$R$181) | P3: =IF(調査票!$U$174="","",調査票!$U$174) | Q3: =IF(調査票!$U$175="","",調査票!$U$175) | R3: =IF(調査票!$U$177="","",調査票!$U$177) | S3: =IF(調査票!$U$178="","",調査票!$U$178) | T3: =IF(調査票!$U$180="","",調査票!$U$180) | U3: =IF(調査票!$U$181="","",調査票!$U$181) | V3: =IF(調査票!$P$193="","",調査票!$P$193) | W3: =IF(調査票!$P$194="","",調査票!$P$194) | X3: =IF(調査票!$P$196="","",調査票!$P$196) | Y3: =IF(調査票!$P$197="","",調査票!$P$197) | Z3: =IF(調査票!$P$199="","",調査票!$P$199) | AA3: =IF(調査票!$P$209="","",調査票!$P$209) | AB3: =IF(調査票!$P$210="","",調査票!$P$210) | AC3: =IF(調査票!$S$193="","",調査票!$S$193) -> 0 | AD3: =IF(調査票!$S$194="","",調査票!$S$194) -> 0 | AE3: =IF(調査票!$S$196="","",調査票!$S$196) -> 0 | AF3: =IF(調査票!$S$197="","",調査票!$S$197) -> 0 | AG3: =IF(調査票!$S$199="","",調査票!$S$199) -> 0 | AH3: =IF(調査票!$S$200="","",調査票!$S$200) -> 0 | AI3: =IF(調査票!$S$201="","",調査票!$S$201) -> 0 | AJ3: =IF(調査票!$S$202="","",調査票!$S$202) -> 0 | AK3: =IF(調査票!$S$203="","",調査票!$S$203) -> 0 | AL3: =IF(調査票!$S$204="","",調査票!$S$204) -> 0 | AM3: =IF(調査票!$S$205="","",調査票!$S$205) -> 0 | AN3: =IF(調査票!$S$206="","",調査票!$S$206) -> 0 | AO3: =IF(調査票!$S$207="","",調査票!$S$207) -> 0 | AP3: =IF(調査票!$S$208="","",調査票!$S$208) -> 0 | AQ3: =IF(調査票!$S$209="","",調査票!$S$209) -> 0 | AR3: =IF(調査票!$S$210="","",調査票!$S$210) -> 0 | AS3: =IF(調査票!$V$193="","",調査票!$V$193) | AT3: =IF(調査票!$V$194="","",調査票!$V$194) | AU3: =IF(調査票!$V$196="","",調査票!$V$196) | AV3: =IF(調査票!$V$197="","",調査票!$V$197) | AW3: =IF(調査票!$V$199="","",調査票!$V$199) | AX3: =IF(調査票!$V$200="","",調査票!$V$200) | AY3: =IF(調査票!$V$201="","",調査票!$V$201) | AZ3: =IF(調査票!$V$202="","",調査票!$V$202) | BA3: =IF(調査票!$V$203="","",調査票!$V$203) | BB3: =IF(調査票!$V$204="","",調査票!$V$204) | BC3: =IF(調査票!$V$205="","",調査票!$V$205) | BD3: =IF(調査票!$V$206="","",調査票!$V$206) | BE3: =IF(調査票!$V$207="","",調査票!$V$207) | BF3: =IF(調査票!$V$208="","",調査票!$V$208) | BG3: =IF(調査票!$V$209="","",調査票!$V$209) | BH3: =IF(調査票!$V$210="","",調査票!$V$210) | BI3: =IF(調査票!$Y$193="","",調査票!$Y$193) | BJ3: =IF(調査票!$Y$194="","",調査票!$Y$194) | BK3: =IF(調査票!$Y$196="","",調査票!$Y$196) | BL3: =IF(調査票!$Y$197="","",調査票!$Y$197) | BM3: =IF(調査票!$Y$199="","",調査票!$Y$199) | BN3: =IF(調査票!$Y$200="","",調査票!$Y$200) | BO3: =IF(調査票!$Y$201="","",調査票!$Y$201) | BP3: =IF(調査票!$Y$202="","",調査票!$Y$202) | BQ3: =IF(調査票!$Y$203="","",調査票!$Y$203) | BR3: =IF(調査票!$Y$204="","",調査票!$Y$204) | BS3: =IF(調査票!$Y$205="","",調査票!$Y$205) | BT3: =IF(調査票!$Y$206="","",調査票!$Y$206) | BU3: =IF(調査票!$Y$207="","",調査票!$Y$207) | BV3: =IF(調査票!$Y$208="","",調査票!$Y$208) | BW3: =IF(調査票!$Y$209="","",調査票!$Y$209) | BX3: =IF(調査票!$Y$210="","",調査票!$Y$210) | BY3: =IF(調査票!$AB$193="","",調査票!$AB$193) -> 0 | BZ3: =IF(調査票!$AB$194="","",調査票!$AB$194) -> 0 | CA3: =IF(調査票!$AB$196="","",調査票!$AB$196) -> 0 | CB3: =IF(調査票!$AB$197="","",調査票!$AB$197) -> 0 | CC3: =IF(調査票!$AB$199="","",調査票!$AB$199) -> 0 | CD3: =IF(調査票!$AB$200="","",調査票!$AB$200) -> 0 | CE3: =IF(調査票!$AB$201="","",調査票!$AB$201) -> 0 | CF3: =IF(調査票!$AB$202="","",調査票!$AB$202) -> 0 | CG3: =IF(調査票!$AB$203="","",調査票!$AB$203) -> 0 | CH3: =IF(調査票!$AB$204="","",調査票!$AB$204) -> 0 | CI3: =IF(調査票!$AB$205="","",調査票!$AB$205) -> 0 | CJ3: =IF(調査票!$AB$206="","",調査票!$AB$206) -> 0 | CK3: =IF(調査票!$AB$207="","",調査票!$AB$207) -> 0 | CL3: =IF(調査票!$AB$208="","",調査票!$AB$208) -> 0 | CM3: =IF(調査票!$AB$209="","",調査票!$AB$209) -> 0 | CN3: =IF(調査票!$AB$210="","",調査票!$AB$210) -> 0 | CO3: =IF(調査票!$AE$193="","",調査票!$AE$193) | CP3: =IF(調査票!$AE$194="","",調査票!$AE$194) | CQ3: =IF(調査票!$AE$196="","",調査票!$AE$196) | CR3: =IF(調査票!$AE$197="","",調査票!$AE$197) | CS3: =IF(調査票!$AE$199="","",調査票!$AE$199) | CT3: =IF(調査票!$AE$200="","",調査票!$AE$200) | CU3: =IF(調査票!$AE$201="","",調査票!$AE$201) | CV3: =IF(調査票!$AE$202="","",調査票!$AE$202) | CW3: =IF(調査票!$AE$203="","",調査票!$AE$203) | CX3: =IF(調査票!$AE$204="","",調査票!$AE$204) | CY3: =IF(調査票!$AE$205="","",調査票!$AE$205) | CZ3: =IF(調査票!$AE$206="","",調査票!$AE$206) | DA3: =IF(調査票!$AE$207="","",調査票!$AE$207) | DB3: =IF(調査票!$AE$208="","",調査票!$AE$208) | DC3: =IF(調査票!$AE$209="","",調査票!$AE$209) | DD3: =IF(調査票!$AE$210="","",調査票!$AE$210) | DE3: =IF(調査票!$AH$193="","",調査票!$AH$193) | DF3: =IF(調査票!$AH$194="","",調査票!$AH$194) | DG3: =IF(調査票!$AH$196="","",調査票!$AH$196) | DH3: =IF(調査票!$AH$197="","",調査票!$AH$197) | DI3: =IF(調査票!$AH$199="","",調査票!$AH$199) | DJ3: =IF(調査票!$AH$200="","",調査票!$AH$200) | DK3: =IF(調査票!$AH$201="","",調査票!$AH$201) | DL3: =IF(調査票!$AH$202="","",調査票!$AH$202) | DM3: =IF(調査票!$AH$203="","",調査票!$AH$203) | DN3: =IF(調査票!$AH$204="","",調査票!$AH$204) | DO3: =IF(調査票!$AH$205="","",調査票!$AH$205) | DP3: =IF(調査票!$AH$206="","",調査票!$AH$206) | DQ3: =IF(調査票!$AH$207="","",調査票!$AH$207) | DR3: =IF(調査票!$AH$208="","",調査票!$AH$208) | DS3: =IF(調査票!$AH$209="","",調査票!$AH$209) | DT3: =IF(調査票!$AH$210="","",調査票!$AH$210) | EA3: =IF(調査票!$P$230="","",調査票!$P$230) | EB3: =IF(調査票!$P$231="","",調査票!$P$231) | EC3: =IF(調査票!$P$233="","",調査票!$P$233) | ED3: =IF(調査票!$P$234="","",調査票!$P$234) | EE3: =IF(調査票!$P$236="","",調査票!$P$236) -> 0 | EF3: =IF(調査票!$P$237="","",調査票!$P$237) | EG3: =IF(調査票!$P$238="","",調査票!$P$238) | EH3: =IF(調査票!$P$239="","",調査票!$P$239) | EI3: =IF(調査票!$P$240="","",調査票!$P$240) | EJ3: =IF(調査票!$P$241="","",調査票!$P$241) | EK3: =IF(調査票!$P$242="","",調査票!$P$242) | EL3: =IF(調査票!$P$243="","",調査票!$P$243) | EM3: =IF(調査票!$P$244="","",調査票!$P$244) | EN3: =IF(調査票!$P$245="","",調査票!$P$245) | EO3: =IF(調査票!$P$246="","",調査票!$P$246) | EP3: =IF(調査票!$P$247="","",調査票!$P$247) | EQ3: =IF(調査票!$P$248="","",調査票!$P$248) | ER3: =IF(調査票!$S$230="","",調査票!$S$230) | ES3: =IF(調査票!$S$231="","",調査票!$S$231) | ET3: =IF(調査票!$S$236="","",調査票!$S$236) | EU3: =IF(調査票!$V$230="","",調査票!$V$230) | EV3: =IF(調査票!$V$231="","",調査票!$V$231) | EW3: =IF(調査票!$V$233="","",調査票!$V$233) | EX3: =IF(調査票!$V$236="","",調査票!$V$236) | EY3: =IF(調査票!$Y$230="","",調査票!$Y$230) | EZ3: =IF(調査票!$Y$231="","",調査票!$Y$231) | FA3: =IF(調査票!$Y$234="","",調査票!$Y$234) | FB3: =IF(調査票!$Y$236="","",調査票!$Y$236) | FC3: =IF(調査票!$AB$230="","",調査票!$AB$230) | FD3: =IF(調査票!$AB$231="","",調査票!$AB$231) | FE3: =IF(調査票!$R$267="","",調査票!$R$267) | FF3: =IF(調査票!$R$268="","",調査票!$R$268) | FG3: =IF(調査票!$R$269="","",調査票!$R$269) | FH3: =IF(調査票!$R$270="","",調査票!$R$270) | FI3: =IF(調査票!$R$271="","",調査票!$R$271) | FJ3: =IF(調査票!$R$272="","",調査票!$R$272) | FK3: =IF(調査票!$R$273="","",調査票!$R$273) | FL3: =IF(調査票!$R$274="","",調査票!$R$274) | FM3: =IF(調査票!$R$275="","",調査票!$R$275) | FN3: =IF(調査票!$R$276="","",調査票!$R$276) | FO3: =IF(調査票!$R$277="","",調査票!$R$277) | FP3: =IF(調査票!$R$278="","",調査票!$R$278) | FQ3: =IF(調査票!$R$279="","",調査票!$R$279) | FR3: =IF(調査票!$R$280="","",調査票!$R$280) | FS3: =IF(調査票!$R$281="","",調査票!$R$281) | FT3: =IF(調査票!$R$282="","",調査票!$R$282) | FU3: =IF(調査票!$R$283="","",調査票!$R$283) | FV3: =IF(調査票!$W$267="","",調査票!$W$267) | FW3: =IF(調査票!$W$268="","",調査票!$W$268) | FX3: =IF(調査票!$W$269="","",調査票!$W$269) | FY3: =IF(調査票!$W$270="","",調査票!$W$270) | FZ3: =IF(調査票!$W$271="","",調査票!$W$271) | GA3: =IF(調査票!$W$272="","",調査票!$W$272) | GB3: =IF(調査票!$W$273="","",調査票!$W$273) | GC3: =IF(調査票!$W$274="","",調査票!$W$274) | GD3: =IF(調査票!$W$275="","",調査票!$W$275) | GE3: =IF(調査票!$W$276="","",調査票!$W$276) | GF3: =IF(調査票!$W$277="","",調査票!$W$277) | GG3: =IF(調査票!$W$278="","",調査票!$W$278) | GH3: =IF(調査票!$W$279="","",調査票!$W$279) | GI3: =IF(調査票!$W$280="","",調査票!$W$280) | GJ3: =IF(調査票!$W$281="","",調査票!$W$281) | GK3: =IF(調査票!$W$282="","",調査票!$W$282) | GL3: =IF(調査票!$W$283="","",調査票!$W$283) | GM3: =IF(調査票!$AA$267="","",調査票!$AA$267) | GN3: =IF(調査票!$AA$268="","",調査票!$AA$268) | GO3: =IF(調査票!$AA$269="","",調査票!$AA$269) | GP3: =IF(調査票!$AA$270="","",調査票!$AA$270) | GQ3: =IF(調査票!$AA$271="","",調査票!$AA$271) | GR3: =IF(調査票!$AA$272="","",調査票!$AA$272) | GS3: =IF(調査票!$AA$273="","",調査票!$AA$273) | GT3: =IF(調査票!$AA$274="","",調査票!$AA$274) | GU3: =IF(調査票!$AA$275="","",調査票!$AA$275) | GV3: =IF(調査票!$AA$276="","",調査票!$AA$276) | GW3: =IF(調査票!$AA$277="","",調査票!$AA$277) | GX3: =IF(調査票!$AA$278="","",調査票!$AA$278) | GY3: =IF(調査票!$AA$279="","",調査票!$AA$279) | GZ3: =IF(調査票!$AA$280="","",調査票!$AA$280) | HA3: =IF(調査票!$AA$281="","",調査票!$AA$281) | HB3: =IF(調査票!$AA$282="","",調査票!$AA$282) | HC3: =IF(調査票!$AA$283="","",調査票!$AA$283) | HD3: =IF(調査票!$AE$267="","",調査票!$AE$267) | HE3: =IF(調査票!$AE$268="","",調査票!$AE$268) | HF3: =IF(調査票!$AE$269="","",調査票!$AE$269) | HG3: =IF(調査票!$AE$270="","",調査票!$AE$270) | HH3: =IF(調査票!$AE$271="","",調査票!$AE$271) | HI3: =IF(調査票!$AE$272="","",調査票!$AE$272) | HJ3: =IF(調査票!$AE$273="","",調査票!$AE$273) | HK3: =IF(調査票!$AE$274="","",調査票!$AE$274) | HL3: =IF(調査票!$AE$275="","",調査票!$AE$275) | HM3: =IF(調査票!$AE$276="","",調査票!$AE$276) | HN3: =IF(調査票!$AE$277="","",調査票!$AE$277) | HO3: =IF(調査票!$AE$278="","",調査票!$AE$278) | HP3: =IF(調査票!$AE$279="","",調査票!$AE$279) | HQ3: =IF(調査票!$AE$280="","",調査票!$AE$280) | HR3: =IF(調査票!$AE$281="","",調査票!$AE$281) | HS3: =IF(調査票!$AE$282="","",調査票!$AE$282) | HT3: =IF(調査票!$AE$283="","",調査票!$AE$283) | HU3: =IF(調査票!$N$285="","",調査票!$N$285) | HV3: =IF(調査票!$Q$296="","",調査票!$Q$296) | HW3: =IF(調査票!$Q$297="","",調査票!$Q$297) | HX3: =IF(調査票!$Q$298="","",調査票!$Q$298) | HY3: =IF(調査票!$Q$299="","",調査票!$Q$299) | HZ3: =IF(調査票!$Q$301="","",調査票!$Q$301) | IA3: =IF(調査票!$Q$302="","",調査票!$Q$302) | IB3: =IF(調査票!$Q$303="","",調査票!$Q$303) | IC3: =IF(調査票!$Q$304="","",調査票!$Q$304) | ID3: =IF(調査票!$Q$305="","",調査票!$Q$305) | IE3: =IF(調査票!$Q$306="","",調査票!$Q$306) | IF3: =IF(調査票!$Q$307="","",調査票!$Q$307) | IG3: =IF(調査票!$Q$308="","",調査票!$Q$308) | IH3: =IF(調査票!$Q$309="","",調査票!$Q$309) | II3: =IF(調査票!$Q$310="","",調査票!$Q$310) | IK3: =IF(調査票!$Q$312="","",調査票!$Q$312) | IL3: =IF(調査票!$Q$313="","",調査票!$Q$313) | IM3: =IF(調査票!$T$296="","",調査票!$T$296) | IN3: =IF(調査票!$T$297="","",調査票!$T$297) | IO3: =IF(調査票!$T$298="","",調査票!$T$298) | IP3: =IF(調査票!$T$299="","",調査票!$T$299) | IQ3: =IF(調査票!$T$301="","",調査票!$T$301) | IR3: =IF(調査票!$T$302="","",調査票!$T$302) | IS3: =IF(調査票!$T$303="","",調査票!$T$303) | IT3: =IF(調査票!$T$304="","",調査票!$T$304) | IU3: =IF(調査票!$T$305="","",調査票!$T$305) | IV3: =IF(調査票!$T$306="","",調査票!$T$306) | IW3: =IF(調査票!$T$307="","",調査票!$T$307) | IX3: =IF(調査票!$T$308="","",調査票!$T$308) | IY3: =IF(調査票!$T$309="","",調査票!$T$309) | IZ3: =IF(調査票!$T$310="","",調査票!$T$310) | JA3: =IF(調査票!$T$311="","",調査票!$T$311) | JB3: =IF(調査票!$T$312="","",調査票!$T$312) | JC3: =IF(調査票!$T$313="","",調査票!$T$313) | JD3: =IF(調査票!$W$296="","",調査票!$W$296) | JE3: =IF(調査票!$W$297="","",調査票!$W$297) | JF3: =IF(調査票!$W$298="","",調査票!$W$298) | JG3: =IF(調査票!$W$299="","",調査票!$W$299) | JH3: =IF(調査票!$W$300="","",調査票!$W$300) | JI3: =IF(調査票!$W$301="","",調査票!$W$301) | JJ3: =IF(調査票!$W$302="","",調査票!$W$302) | JK3: =IF(調査票!$W$303="","",調査票!$W$303) | JL3: =IF(調査票!$W$304="","",調査票!$W$304) | JM3: =IF(調査票!$W$305="","",調査票!$W$305) | JN3: =IF(調査票!$W$306="","",調査票!$W$306) | JO3: =IF(調査票!$W$307="","",調査票!$W$307) | JP3: =IF(調査票!$W$308="","",調査票!$W$308) | JQ3: =IF(調査票!$W$309="","",調査票!$W$309) | JR3: =IF(調査票!$W$310="","",調査票!$W$310) | JS3: =IF(調査票!$W$311="","",調査票!$W$311) | JT3: =IF(調査票!$W$312="","",調査票!$W$312) | JU3: =IF(調査票!$W$313="","",調査票!$W$313) | JV3: =IF(調査票!$Z$296="","",調査票!$Z$296) | JW3: =IF(調査票!$Z$297="","",調査票!$Z$297) | JX3: =IF(調査票!$Z$298="","",調査票!$Z$298) | JY3: =IF(調査票!$Z$299="","",調査票!$Z$299) | JZ3: =IF(調査票!$Z$300="","",調査票!$Z$300) | KA3: =IF(調査票!$Z$301="","",調査票!$Z$301) | KB3: =IF(調査票!$Z$302="","",調査票!$Z$302) | KC3: =IF(調査票!$Z$303="","",調査票!$Z$303) | KD3: =IF(調査票!$Z$304="","",調査票!$Z$304) | KE3: =IF(調査票!$Z$305="","",調査票!$Z$305) | KF3: =IF(調査票!$Z$306="","",調査票!$Z$306) | KG3: =IF(調査票!$Z$307="","",調査票!$Z$307) | KH3: =IF(調査票!$Z$308="","",調査票!$Z$308) | KI3: =IF(調査票!$Z$309="","",調査票!$Z$309) | KJ3: =IF(調査票!$Z$310="","",調査票!$Z$310) | KK3: =IF(調査票!$Z$311="","",調査票!$Z$311) | KL3: =IF(調査票!$Z$312="","",調査票!$Z$312) | KM3: =IF(調査票!$Z$313="","",調査票!$Z$313) | KN3: =IF(調査票!$N$315="","",調査票!$N$315)

Sheet ③
A1: S―No | B1: 大学コード | C1: 大学名 | D1: Ｑ18 | G1: Ｑ19 | K1: Ｑ20 | N1: Ｑ20－Ｄ GPAの活用 | W1: Ｑ20―Ｅ CAP制度 | X1: Q21 看護関連の研修事業 | AF1: Ｑ22―Ａ 付属施設・研究機関 | AG1: Ｑ22－Ｂ ①合計 | AK1: Ｑ22－Ｂ ②専任 | AO1: Ｑ21－Ｂ ③兼任 | AS1: Q22－Ｃ 財政基盤 | AX1: Ｑ22－Ｄ
D2: 一般市民向け | E2: 専門職向け | F2: その他 | G2: 全学主催 FD | H2: 全学主催 SD | I2: 看護系主催 FD | J2: 看護系主催 SD | K2: Ａ 教員の評価 | L2: Ｂ 学生の授業評価 | M2: Ｃ GPA制度 | N2: 1 進級判定 | O2: 2 奨学金、 授業料免除 | P2: 3 学修支援 | Q2: 4 履修指導 | R2: 5 大学院進学 | S2: 6 就職指導 | T2: 7 教学IR | U2: 8 その他 | V2: 8.その他内容 | X2: 1 認定看護師 教育課程 | Y2: 2 認定看護管理者 教育課程 | Z2: 3 特定行為研修 | AA2: 4 実習指導者 講習会 | AB2: 5 看護教員養成 課程 | AC2: 6 ない | AD2: 7 研修事業がない | AE2: 6.その他内容 | AG2: 教員 | AH2: 研究員 | AI2: 職員 | AJ2: その他 | AK2: 教員 | AL2: 研究員 | AM2: 職員 | AN2: その他 | AO2: 教員 | AP2: 研究員 | AQ2: 職員 | AR2: その他 | AS2: 1 大学の予算内 | AT2: 2 国・自治体 | AU2: 3 民間の助成 | AV2: 4 その他 | AW2: 4.その他内容 | AX2: 1 市民向け教育 | AY2: 2 国際交流 | AZ2: 3 共同研究 | BA2: 4 看護実践の提供 | BB2: 5 継続教育 | BC2: 6 講師の派遣 | BD2: 7 その他 | BE2: 7.その他内容
B3: =IF(調査票!$H$19="","",調査票!$H$19) | C3: =IF(調査票!$H$21="","",調査票!$H$21) | D3: =IF(調査票!$AT$323="","",調査票!$AT$323) | E3: =IF(調査票!$AT$324="","",調査票!$AT$324) | F3: =IF(調査票!$AT$325="","",調査票!$AT$325) | G3: =IF(調査票!$AT$331="","",調査票!$AT$331) | H3: =IF(調査票!$AT$332="","",調査票!$AT$332) | I3: =IF(調査票!$AT$333="","",調査票!$AT$333) | J3: =IF(調査票!$AT$334="","",調査票!$AT$334) | K3: =IF(調査票!$AT$340="","",調査票!$AT$340) | L3: =IF(調査票!$AT$344="","",調査票!$AT$344) | M3: =IF(調査票!$AT$348="","",調査票!$AT$348) | V3: =IF(調査票!$J$357="","",調査票!$J$357) | W3: =IF(調査票!$AT$361="","",調査票!$AT$361) | AE3: =IF(調査票!$R$369="","",調査票!$R$369) | AF3: =IF(調査票!$AT$376="","",調査票!$AT$376) | AG3: =IF(調査票!$J$385="","",調査票!$J$385) -> 0 | AH3: =IF(調査票!$J$386="","",調査票!$J$386) -> 0 | AI3: =IF(調査票!$J$387="","",調査票!$J$387) -> 0 | AJ3: =IF(調査票!$J$388="","",調査票!$J$388) -> 0 | AK3: =IF(調査票!$M$385="","",調査票!$M$385) | AL3: =IF(調査票!$M$386="","",調査票!$M$386) | AM3: =IF(調査票!$M$387="","",調査票!$M$387) | AN3: =IF(調査票!$M$388="","",調査票!$M$388) | AO3: =IF(調査票!$P$385="","",調査票!$P$385) | AP3: =IF(調査票!$P$386="","",調査票!$P$386) | AQ3: =IF(調査票!$P$387="","",調査票!$P$387) | AR3: =IF(調査票!$P$388="","",調査票!$P$388) | AW3: =IF(調査票!$J$395="","",調査票!$J$395) | BE3: =IF(調査票!$J$404="","",調査票!$J$404)

Sheet ④
A1: S―No | B1: 大学コード | C1: 大学名 | D1: Ｑ23―Ａ 国際交流 | E1: Ｑ23－Ｂ 国際交流協定校 | Y1: Ｑ23－Ｃ 留学先 | BC1: Ｑ23－Ｄ 留学生の受け入れ | CG1: Ｑ23－Ｅ 教員の短期海外派遣 | DK1: Ｑ23－Ｆ 教員の長期海外派遣 | EO1: Ｑ23－Ｇ 学生以外の受け入れ | FS1: Ｑ23－Ｈ 大学独自の経済的支援 | GA1: Ｑ２４―Ａ ハラスメント窓口 | GB1: Ｑ２４―Ｂ ハラスメント事例 | GC1: Q24-C 該当する事例 | GI1: Ｑ２４―Ｄ コンプライアンス | GJ1: Ｑ２４―Ｅ 利益相反 | GK1: Ｑ２４―Ｆ 報告義務の有無 | GL1: Ｑ２４―Ｇ 報告義務について | GM1: Ｑ２５―Ａ 障がい 相談窓口 | GN1: Ｑ２５―Ｂ 入学前教育 | GO1: Q25-Ｃ 入学前教育の対象者 | GT1: Q25-Ｄ 学習形態 | HA1: Q25-Ｅ 実施体制 | HC1: Q25-Ｆ 費用負担 | HE1: Ｑ２６―Ａ | HF1: Ｑ２６―Ｂ | HG1: Ｑ２６―Ｃ | HH1: Ｑ２６―Ｄ | HI1: Ｑ２６―Ｅ | HJ1: Ｑ２６―Ｆ | HK1: Ｑ２６―Ｇ | HL1: Ｑ２６―Ｈ
E2: ①国名 | F2: ②国名 | G2: ③国名 | H2: ④国名 | I2: ⑤国名 | J2: ⑥国名 | K2: ⑦国名 | L2: ⑧国名 | M2: ⑨国名 | N2: ⑩国名 | O2: ①学校数 | P2: ②学校数 | Q2: ③学校数 | R2: ④学校数 | S2: ⑤学校数 | T2: ⑥学校数 | U2: ⑦学校数 | V2: ⑧学校数 | W2: ⑨学校数 | X2: ⑩学校数 | Y2: ①国名 | Z2: ②国名 | AA2: ③国名 | AB2: ④国名 | AC2: ⑤国名 | AD2: ⑥国名 | AE2: ⑦国名 | AF2: ⑧国名 | AG2: ⑨国名 | AH2: ⑩国名 | AI2: ①留学者数計 | AJ2: ②留学者数計 | AK2: ③留学者数計 | AL2: ④留学者数計 | AM2: ⑤留学者数計 | AN2: ⑥留学者数計 | AO2: ⑦留学者数計 | AP2: ⑧留学者数計 | AQ2: ⑨留学者数計 | AR2: ⑩留学者数計 | AS2: ①公費補助 | AT2: ②公費補助 | AU2: ③公費補助 | AV2: ④公費補助 | AW2: ⑤公費補助 | AX2: ⑥公費補助 | AY2: ⑦公費補助 | AZ2: ⑧公費補助 | BA2: ⑨公費補助 | BB2: ⑩公費補助 | BC2: ①国名 | BD2: ②国名 | BE2: ③国名 | BF2: ④国名 | BG2: ⑤国名 | BH2: ⑥国名 | BI2: ⑦国名 | BJ2: ⑧国名 | BK2: ⑨国名 | BL2: ⑩国名 | BM2: ①受け入れ人数 | BN2: ②受け入れ人数 | BO2: ③受け入れ人数 | BP2: ④受け入れ人数 | BQ2: ⑤受け入れ人数 | BR2: ⑥受け入れ人数 | BS2: ⑦受け入れ人数 | BT2: ⑧受け入れ人数 | BU2: ⑨受け入れ人数 | BV2: ⑩受け入れ人数 | BW2: ①公費補助 | BX2: ②公費補助 | BY2: ③公費補助 | BZ2: ④公費補助 | CA2: ⑤公費補助 | CB2: ⑥公費補助 | CC2: ⑦公費補助 | CD2: ⑧公費補助 | CE2: ⑨公費補助 | CF2: ⑩公費補助 | CG2: ①国名 | CH2: ②国名 | CI2: ③国名 | CJ2: ④国名 | CK2: ⑤国名 | CL2: ⑥国名 | CM2: ⑦国名 | CN2: ⑧国名 | CO2: ⑨国名 | CP2: ⑩国名 | CQ2: ①短期海外派遣人数 | CR2: ②短期海外派遣人数 | CS2: ③短期海外派遣人数 | CT2: ④短期海外派遣人数 | CU2: ⑤短期海外派遣人数 | CV2: ⑥短期海外派遣人数 | CW2: ⑦短期海外派遣人数 | CX2: ⑧短期海外派遣人数 | CY2: ⑨短期海外派遣人数 | CZ2: ⑩短期海外派遣人数 | DA2: ①公費補助 | DB2: ②公費補助 | DC2: ③公費補助 | DD2: ④公費補助 | DE2: ⑤公費補助 | DF2: ⑥公費補助 | DG2: ⑦公費補助 | DH2: ⑧公費補助 | DI2: ⑨公費補助 | DJ2: ⑩公費補助 | DK2: ①国名 | DL2: ②国名 | DM2: ③国名 | DN2: ④国名 | DO2: ⑤国名 | DP2: ⑥国名 | DQ2: ⑦国名 | DR2: ⑧国名 | DS2: ⑨国名 | DT2: ⑩国名 | DU2: ①長期海外派遣人数 | DV2: ②長期海外派遣人数 | DW2: ③長期海外派遣人数 | DX2: ④長期海外派遣人数 | DY2: ⑤長期海外派遣人数 | DZ2: ⑥長期海外派遣人数 | EA2: ⑦長期海外派遣人数 | EB2: ⑧長期海外派遣人数 | EC2: ⑨長期海外派遣人数 | ED2: ⑩長期海外派遣人数 | EE2: ①公費補助 | EF2: ②公費補助 | EG2: ③公費補助 | EH2: ④公費補助 | EI2: ⑤公費補助 | EJ2: ⑥公費補助 | EK2: ⑦公費補助 | EL2: ⑧公費補助 | EM2: ⑨公費補助 | EN2: ⑩公費補助 | EO2: ①国名 | EP2: ②国名 | EQ2: ③国名 | ER2: ④国名 | ES2: ⑤国名 | ET2: ⑥国名 | EU2: ⑦国名 | EV2: ⑧国名 | EW2: ⑨国名 | EX2: ⑩国名 | EY2: ①受け入れ人数 | EZ2: ②受け入れ人数 | FA2: ③受け入れ人数 | FB2: ④受け入れ人数 | FC2: ⑤受け入れ人数 | FD2: ⑥受け入れ人数 | FE2: ⑦受け入れ人数 | FF2: ⑧受け入れ人数 | FG2: ⑨受け入れ人数 | FH2: ⑩受け入れ人数 | FI2: ①公費補助 | FJ2: ②公費補助 | FK2: ③公費補助 | FL2: ④公費補助 | FM2: ⑤公費補助 | FN2: ⑥公費補助 | FO2: ⑦公費補助 | FP2: ⑧公費補助 | FQ2: ⑨公費補助 | FR2: ⑩公費補助 | FS2: 学生受け入れ | FT2: 学生受け入れＦＡ | FU2: 学生派遣 | FV2: 学生派遣ＦＡ | FW2: 教員受け入れ | FX2: 教員受け入れＦＡ | FY2: 教員派遣 | FZ2: 教員派遣ＦＡ | GC2: 1 教職員から学生 | GD2: 2 教職員から教職員 | GE2: 3 学生から学生 | GF2: 4 その他 | GG2: 5 回答できない | GH2: 4,その他内容 | GO2: 1 AO入学 | GP2: 2 推薦入学 | GQ2: 3 全入学 | GR2: 4 その他 | GS2: 4,その他内容 | GT2: 1 e-learning | GU2: 2 集合教育 | GV2: 3 課題・レポート | GW2: 4 遠隔教育 | GX2: 5 DVD等 | GY2: 6 その他 | GZ2: 6．その他内容 | HA2: 選択肢 | HB2: 5.その他内容 | HC2: 選択肢 | HD2: 5.その他内容
B3: =IF(調査票!$H$19="","",調査票!$H$19) | C3: =IF(調査票!$H$21="","",調査票!$H$21) | D3: =IF(調査票!$AT$410="","",調査票!$AT$410) | E3: =IF(調査票!$E$417="","",調査票!$E$417) | F3: =IF(調査票!$E$418="","",調査票!$E$418) | G3: =IF(調査票!$E$419="","",調査票!$E$419) | H3: =IF(調査票!$E$420="","",調査票!$E$420) | I3: =IF(調査票!$E$421="","",調査票!$E$421) | J3: =IF(調査票!$T$417="","",調査票!$T$417) | K3: =IF(調査票!$T$418="","",調査票!$T$418) | L3: =IF(調査票!$T$419="","",調査票!$T$419) | M3: =IF(調査票!$T$420="","",調査票!$T$420) | N3: =IF(調査票!$T$421="","",調査票!$T$421) | O3: =IF(調査票!$O$417="","",調査票!$O$417) | P3: =IF(調査票!$O$418="","",調査票!$O$418) | Q3: =IF(調査票!$O$419="","",調査票!$O$419) | R3: =IF(調査票!$O$420="","",調査票!$O$420) | S3: =IF(調査票!$O$421="","",調査票!$O$421) | T3: =IF(調査票!$AD$417="","",調査票!$AD$417) | U3: =IF(調査票!$AD$418="","",調査票!$AD$418) | V3: =IF(調査票!$AD$419="","",調査票!$AD$419) | W3: =IF(調査票!$AD$420="","",調査票!$AD$420) | X3: =IF(調査票!$AD$421="","",調査票!$AD$421) | Y3: =IF(調査票!$E$428="","",調査票!$E$428) | Z3: =IF(調査票!$E$429="","",調査票!$E$429) | AA3: =IF(調査票!$E$430="","",調査票!$E$430) | AB3: =IF(調査票!$E$431="","",調査票!$E$431) | AC3: =IF(調査票!$E$432="","",調査票!$E$432) | AD3: =IF(調査票!$W$428="","",調査票!$W$428) | AE3: =IF(調査票!$W$429="","",調査票!$W$429) | AF3: =IF(調査票!$W$430="","",調査票!$W$430) | AG3: =IF(調査票!$W$431="","",調査票!$W$431) | AH3: =IF(調査票!$W$432="","",調査票!$W$432) | AI3: =IF(調査票!$O$428="","",調査票!$O$428) | AJ3: =IF(調査票!$O$429="","",調査票!$O$429) | AK3: =IF(調査票!$O$430="","",調査票!$O$430) | AL3: =IF(調査票!$O$431="","",調査票!$O$431) | AM3: =IF(調査票!$O$432="","",調査票!$O$432) | AN3: =IF(調査票!$AG$428="","",調査票!$AG$428) | AO3: =IF(調査票!$AG$429="","",調査票!$AG$429) | AP3: =IF(調査票!$AG$430="","",調査票!$AG$430) | AQ3: =IF(調査票!$AG$431="","",調査票!$AG$431) | AR3: =IF(調査票!$AG$432="","",調査票!$AG$432) | AS3: =IF(調査票!$R$428="","",調査票!$R$428) | AT3: =IF(調査票!$R$429="","",調査票!$R$429) | AU3: =IF(調査票!$R$430="","",調査票!$R$430) | AV3: =IF(調査票!$R$431="","",調査票!$R$431) | AW3: =IF(調査票!$R$432="","",調査票!$R$432) | AX3: =IF(調査票!$AJ$428="","",調査票!$AJ$428) | AY3: =IF(調査票!$AJ$429="","",調査票!$AJ$429) | AZ3: =IF(調査票!$AJ$430="","",調査票!$AJ$430) | BA3: =IF(調査票!$AJ$431="","",調査票!$AJ$431) | BB3: =IF(調査票!$AJ$432="","",調査票!$AJ$432) | BC3: =IF(調査票!$E$439="","",調査票!$E$439) | BD3: =IF(調査票!$E$440="","",調査票!$E$440) | BE3: =IF(調査票!$E$441="","",調査票!$E$441) | BF3: =IF(調査票!$E$442="","",調査票!$E$442) | BG3: =IF(調査票!$E$443="","",調査票!$E$443) | BH3: =IF(調査票!$W$439="","",調査票!$W$439) | BI3: =IF(調査票!$W$440="","",調査票!$W$440) | BJ3: =IF(調査票!$W$441="","",調査票!$W$441) | BK3: =IF(調査票!$W$442="","",調査票!$W$442) | BL3: =IF(調査票!$W$443="","",調査票!$W$443) | BM3: =IF(調査票!$O$439="","",調査票!$O$439) | BN3: =IF(調査票!$O$440="","",調査票!$O$440) | BO3: =IF(調査票!$O$441="","",調査票!$O$441) | BP3: =IF(調査票!$O$442="","",調査票!$O$442) | BQ3: =IF(調査票!$O$443="","",調査票!$O$443) | BR3: =IF(調査票!$AG$439="","",調査票!$AG$439) | BS3: =IF(調査票!$AG$440="","",調査票!$AG$440) | BT3: =IF(調査票!$AG$441="","",調査票!$AG$441) | BU3: =IF(調査票!$AG$442="","",調査票!$AG$442) | BV3: =IF(調査票!$AG$443="","",調査票!$AG$443) | BW3: =IF(調査票!$R$439="","",調査票!$R$439) | BX3: =IF(調査票!$R$440="","",調査票!$R$440) | BY3: =IF(調査票!$R$441="","",調査票!$R$441) | BZ3: =IF(調査票!$R$442="","",調査票!$R$442) | CA3: =IF(調査票!$R$443="","",調査票!$R$443) | CB3: =IF(調査票!$AJ$439="","",調査票!$AJ$439) | CC3: =IF(調査票!$AJ$440="","",調査票!$AJ$440) | CD3: =IF(調査票!$AJ$441="","",調査票!$AJ$441) | CE3: =IF(調査票!$AJ$442="","",調査票!$AJ$442) | CF3: =IF(調査票!$AJ$443="","",調査票!$AJ$443) | CG3: =IF(調査票!$E$450="","",調査票!$E$450) | CH3: =IF(調査票!$E$451="","",調査票!$E$451) | CI3: =IF(調査票!$E$452="","",調査票!$E$452) | CJ3: =IF(調査票!$E$453="","",調査票!$E$453) | CK3: =IF(調査票!$E$454="","",調査票!$E$454) | CL3: =IF(調査票!$W$450="","",調査票!$W$450) | CM3: =IF(調査票!$W$451="","",調査票!$W$451) | CN3: =IF(調査票!$W$452="","",調査票!$W$452) | CO3: =IF(調査票!$W$453="","",調査票!$W$453) | CP3: =IF(調査票!$W$454="","",調査票!$W$454) | CQ3: =IF(調査票!$O$450="","",調査票!$O$450) | CR3: =IF(調査票!$O$451="","",調査票!$O$451) | CS3: =IF(調査票!$O$452="","",調査票!$O$452) | CT3: =IF(調査票!$O$453="","",調査票!$O$453) | CU3: =IF(調査票!$O$454="","",調査票!$O$454) | CV3: =IF(調査票!$AG$450="","",調査票!$AG$450) | CW3: =IF(調査票!$AG$451="","",調査票!$AG$451) | CX3: =IF(調査票!$AG$452="","",調査票!$AG$452) | CY3: =IF(調査票!$AG$453="","",調査票!$AG$453) | CZ3: =IF(調査票!$AG$454="","",調査票!$AG$454) | DA3: =IF(調査票!$R$450="","",調査票!$R$450) | DB3: =IF(調査票!$R$451="","",調査票!$R$451) | DC3: =IF(調査票!$R$452="","",調査票!$R$452) | DD3: =IF(調査票!$R$453="","",調査票!$R$453) | DE3: =IF(調査票!$R$454="","",調査票!$R$454) | DF3: =IF(調査票!$AJ$450="","",調査票!$AJ$450) | DG3: =IF(調査票!$AJ$451="","",調査票!$AJ$451) | DH3: =IF(調査票!$AJ$452="","",調査票!$AJ$452) | DI3: =IF(調査票!$AJ$453="","",調査票!$AJ$453) | DJ3: =IF(調査票!$AJ$454="","",調査票!$AJ$454) | DK3: =IF(調査票!$E$461="","",調査票!$E$461) | DL3: =IF(調査票!$E$462="","",調査票!$E$462) | DM3: =IF(調査票!$E$463="","",調査票!$E$463) | DN3: =IF(調査票!$E$464="","",調査票!$E$464) | DO3: =IF(調査票!$E$465="","",調査票!$E$465) | DP3: =IF(調査票!$W$461="","",調査票!$W$461) | DQ3: =IF(調査票!$W$462="","",調査票!$W$462) | DR3: =IF(調査票!$W$463="","",調査票!$W$463) | DS3: =IF(調査票!$W$464="","",調査票!$W$464) | DT3: =IF(調査票!$W$465="","",調査票!$W$465) | DU3: =IF(調査票!$O$461="","",調査票!$O$461) | DV3: =IF(調査票!$O$462="","",調査票!$O$462) | DW3: =IF(調査票!$O$463="","",調査票!$O$463) | DX3: =IF(調査票!$O$464="","",調査票!$O$464) | DY3: =IF(調査票!$O$465="","",調査票!$O$465) | DZ3: =IF(調査票!$AG$461="","",調査票!$AG$461) | EA3: =IF(調査票!$AG$462="","",調査票!$AG$462) | EB3: =IF(調査票!$AG$463="","",調査票!$AG$463) | EC3: =IF(調査票!$AG$464="","",調査票!$AG$464) | ED3: =IF(調査票!$AG$465="","",調査票!$AG$465) | EE3: =IF(調査票!$R$461="","",調査票!$R$461) | EF3: =IF(調査票!$R$462="","",調査票!$R$462) | EG3: =IF(調査票!$R$463="","",調査票!$R$463) | EH3: =IF(調査票!$R$464="","",調査票!$R$464) | EI3: =IF(調査票!$R$465="","",調査票!$R$465) | EJ3: =IF(調査票!$AJ$461="","",調査票!$AJ$461) | EK3: =IF(調査票!$AJ$462="","",調査票!$AJ$462) | EL3: =IF(調査票!$AJ$463="","",調査票!$AJ$463) | EM3: =IF(調査票!$AJ$464="","",調査票!$AJ$464) | EN3: =IF(調査票!$AJ$465="","",調査票!$AJ$465) | EO3: =IF(調査票!$E$472="","",調査票!$E$472) | EP3: =IF(調査票!$E$473="","",調査票!$E$473) | EQ3: =IF(調査票!$E$474="","",調査票!$E$474) | ER3: =IF(調査票!$E$475="","",調査票!$E$475) | ES3: =IF(調査票!$E$476="","",調査票!$E$476) | ET3: =IF(調査票!$W$472="","",調査票!$W$472) | EU3: =IF(調査票!$W$473="","",調査票!$W$473) | EV3: =IF(調査票!$W$474="","",調査票!$W$474) | EW3: =IF(調査票!$W$475="","",調査票!$W$475) | EX3: =IF(調査票!$W$476="","",調査票!$W$476) | EY3: =IF(調査票!$O$472="","",調査票!$O$472) | EZ3: =IF(調査票!$O$473="","",調査票!$O$473) | FA3: =IF(調査票!$O$474="","",調査票!$O$474) | FB3: =IF(調査票!$O$475="","",調査票!$O$475) | FC3: =IF(調査票!$O$476="","",調査票!$O$476) | FD3: =IF(調査票!$AG$472="","",調査票!$AG$472) | FE3: =IF(調査票!$AG$473="","",調査票!$AG$473) | FF3: =IF(調査票!$AG$474="","",調査票!$AG$474) | FG3: =IF(調査票!$AG$475="","",調査票!$AG$475) | FH3: =IF(調査票!$AG$476="","",調査票!$AG$476) | FI3: =IF(調査票!$R$472="","",調査票!$R$472) | FJ3: =IF(調査票!$R$473="","",調査票!$R$473) | FK3: =IF(調査票!$R$474="","",調査票!$R$474) | FL3: =IF(調査票!$R$475="","",調査票!$R$475) | FM3: =IF(調査票!$R$476="","",調査票!$R$476) | FN3: =IF(調査票!$AJ$472="","",調査票!$AJ$472) | FO3: =IF(調査票!$AJ$473="","",調査票!$AJ$473) | FP3: =IF(調査票!$AJ$474="","",調査票!$AJ$474) | FQ3: =IF(調査票!$AJ$475="","",調査票!$AJ$475) | FR3: =IF(調査票!$AJ$476="","",調査票!$AJ$476) | FS3: =IF(調査票!$AT$482="","",調査票!$AT$482) | FT3: =IF(調査票!$K$482="","",調査票!$K$482) | FU3: =IF(調査票!$AT$483="","",調査票!$AT$483) | FV3: =IF(調査票!$K$483="","",調査票!$K$483) | FW3: =IF(調査票!$AT$484="","",調査票!$AT$484) | FX3: =IF(調査票!$K$484="","",調査票!$K$484) | FY3: =IF(調査票!$AT$485="","",調査票!$AT$485) | FZ3: =IF(調査票!$K$485="","",調査票!$K$485) | GA3: =IF(調査票!$AT$492="","",調査票!$AT$492) | GB3: =IF(調査票!$AT$497="","",調査票!$AT$497) | GH3: =IF(調査票!$J$506="","",調査票!$J$506) | GI3: =IF(調査票!$AT$510="","",調査票!$AT$510) | GJ3: =IF(調査票!$AT$515="","",調査票!$AT$515) | GK3: =IF(調査票!$AT$520="","",調査票!$AT$520) | GL3: =IF(調査票!$AT$525="","",調査票!$AT$525) | GM3: =IF(調査票!$AT$533="","",調査票!$AT$533) | GN3: =IF(調査票!$AT$538="","",調査票!$AT$538) | GS3: =IF(調査票!$J$545="","",調査票!$J$545) | GZ3: =IF(調査票!$J$552="","",調査票!$J$552) | HA3: =IF(調査票!$AT$556="","",調査票!$AT$556) | HB3: =IF(調査票!$I$559="","",調査票!$I$559) | HC3: =IF(調査票!$AT$563="","",調査票!$AT$563) | HD3: =IF(調査票!$I$566="","",調査票!$I$566) | HE3: =IF(調査票!$AT$572="","",調査票!$AT$572) | HF3: =IF(調査票!$E$578="","",調査票!$E$578) | HG3: =IF(調査票!$AT$581="","",調査票!$AT$581) | HH3: =IF(調査票!$E$587="","",調査票!$E$587) | HI3: =IF(調査票!$AT$590="","",調査票!$AT$590) | HJ3: =IF(調査票!$E$596="","",調査票!$E$596) | HK3: =IF(調査票!$AT$599="","",調査票!$AT$599) | HL3: =IF(調査票!$E$605="","",調査票!$E$605)

Sheet ⑤
A1: S―No | B1: 大学コード | C1: 大学名 | D1: Ｑ26－Ｉ ①基礎 | T1: Ｑ26－Ｉ ②母性 | AJ1: Ｑ26－Ｉ ③小児 | AZ1: Ｑ26－Ｉ ④精神 | BP1: Ｑ26－Ｉ ⑤成人 | CF1: Ｑ26－Ｉ ⑥老年 | CV1: Ｑ26－Ｉ ⑦在宅 | DL1: Ｑ26－Ｉ ⑧その他 | EB1: Ｑ26-Ｉ | ED1: Ｑ２７―Ａ 保健師教育課程 | EE1: Ｑ27-B 定員数 | EH1: Ｑ27-C 実習での課題や問題 | EY1: Ｑ２７―Ｄ 助産師教育課程 | EZ1: Ｑ27-E 定員数 | FC1: Ｑ27-F 実習での課題や問題 | FS1: Ｑ２７―Ｇ 養護教諭一種 | FT1: Ｑ27-H 定員数 | FV1: Ｑ27-I 実習での課題や問題 | GK1: Ｑ28-A 大学の初年度学納金 | GP1: Ｑ28-A 初年度学納金 助産師専攻科・別科 | GU1: Ｑ28-A 別途徴収額 | GX1: Ｑ28-B-1 大学院の初年度学納金 研究コース | HD1: Ｑ28-B-2 大学院の初年度学納金 ＣＮＳ | HJ1: Ｑ28-B-3 大学院の初年度学納金 ＮＰ | HP1: Ｑ28-B-4 大学院の初年度学納金 保健師 | HV1: Ｑ28-B-5 大学院の初年度学納金 助産師 | IB1: Ｑ28-B-6 大学院の初年度学納金 養護教諭 | IH1: Ｑ28-B-7 大学院の初年度学納金 博士後期 | IN1: Ｑ29-1 奨学金 大学 | IP1: Ｑ29-2 奨学金 同窓会 | IR1: Ｑ29-3 奨学金 保護者会等 | IT1: Ｑ29-4 奨学金 附属病院等 | IV1: Ｑ30 学内研究費
D2: 1 なし | E2: 2 実習施設の不足、 確保困難 | F2: 3 教員の不足 | G2: 4 受入条件が厳しい | H2: 5 実習先職員からの ハラスメント | I2: 6 受入れ人数の制限 | J2: 7 男子学生受入れ 制限 | K2: 8 実習先のスタッフ の不足 | L2: 9 受持ち患者の不足 | M2: 10 指導内容・ 指導者の質 | N2: 11 学生の質 | O2: 12 日程調整 | P2: 13 実習環境 | Q2: 14 利用者からの ハラスメント等 | R2: 15 実習謝金 | S2: 16 その他の課題 | T2: 1 なし | U2: 2 実習施設の不足、 確保困難 | V2: 3 教員の不足 | W2: 4 受入条件が厳しい | X2: 5 実習先職員からの ハラスメント | Y2: 6 受入れ人数の制限 | Z2: 7 男子学生受入れ 制限 | AA2: 8 実習先のスタッフ の不足 | AB2: 9 受持ち患者の不足 | AC2: 10 指導内容・ 指導者の質 | AD2: 11 学生の質 | AE2: 12 日程調整 | AF2: 13 実習環境 | AG2: 14 利用者からの ハラスメント等 | AH2: 15 実習謝金 | AI2: 16 その他の課題 | AJ2: 1 なし | AK2: 2 実習施設の不足、 確保困難 | AL2: 3 教員の不足 | AM2: 4 受入条件が厳しい | AN2: 5 実習先職員からの ハラスメント | AO2: 6 受入れ人数の制限 | AP2: 7 男子学生受入れ 制限 | AQ2: 8 実習先のスタッフ の不足 | AR2: 9 受持ち患者の不足 | AS2: 10 指導内容・ 指導者の質 | AT2: 11 学生の質 | AU2: 12 日程調整 | AV2: 13 実習環境 | AW2: 14 利用者からの ハラスメント等 | AX2: 15 実習謝金 | AY2: 16 その他の課題 | AZ2: 1 なし | BA2: 2 実習施設の不足、 確保困難 | BB2: 3 教員の不足 | BC2: 4 受入条件が厳しい | BD2: 5 実習先職員からの ハラスメント | BE2: 6 受入れ人数の制限 | BF2: 7 男子学生受入れ 制限 | BG2: 8 実習先のスタッフ の不足 | BH2: 9 受持ち患者の不足 | BI2: 10 指導内容・ 指導者の質 | BJ2: 11 学生の質 | BK2: 12 日程調整 | BL2: 13 実習環境 | BM2: 14 利用者からの ハラスメント等 | BN2: 15 実習謝金 | BO2: 16 その他の課題 | BP2: 1 なし | BQ2: 2 実習施設の不足、 確保困難 | BR2: 3 教員の不足 | BS2: 4 受入条件が厳しい | BT2: 5 実習先職員からの ハラスメント | BU2: 6 受入れ人数の制限 | BV2: 7 男子学生受入れ 制限 | BW2: 8 実習先のスタッフ の不足 | BX2: 9 受持ち患者の不足 | BY2: 10 指導内容・ 指導者の質 | BZ2: 11 学生の質 | CA2: 12 日程調整 | CB2: 13 実習環境 | CC2: 14 利用者からの ハラスメント等 | CD2: 15 実習謝金 | CE2: 16 その他の課題 | CF2: 1 なし | CG2: 2 実習施設の不足、 確保困難 | CH2: 3 教員の不足 | CI2: 4 受入条件が厳しい | CJ2: 5 実習先職員からの ハラスメント | CK2: 6 受入れ人数の制限 | CL2: 7 男子学生受入れ 制限 | CM2: 8 実習先のスタッフ の不足 | CN2: 9 受持ち患者の不足 | CO2: 10 指導内容・ 指導者の質 | CP2: 11 学生の質 | CQ2: 12 日程調整 | CR2: 13 実習環境 | CS2: 14 利用者からの ハラスメント等 | CT2: 15 実習謝金 | CU2: 16 その他の課題 | CV2: 1 なし | CW2: 2 実習施設の不足、 確保困難 | CX2: 3 教員の不足 | CY2: 4 受入条件が厳しい | CZ2: 5 実習先職員からの ハラスメント | DA2: 6 受入れ人数の制限 | DB2: 7 男子学生受入れ 制限 | DC2: 8 実習先のスタッフ の不足 | DD2: 9 受持ち患者の不足 | DE2: 10 指導内容・ 指導者の質 | DF2: 11 学生の質 | DG2: 12 日程調整 | DH2: 13 実習環境 | DI2: 14 利用者からの ハラスメント等 | DJ2: 15 実習謝金 | DK2: 16 その他の課題 | DL2: 1 なし | DM2: 2 実習施設の不足、 確保困難 | DN2: 3 教員の不足 | DO2: 4 受入条件が厳しい | DP2: 5 実習先職員からの ハラスメント | DQ2: 6 受入れ人数の制限 | DR2: 7 男子学生受入れ 制限 | DS2: 8 実習先のスタッフ の不足 | DT2: 9 受持ち患者の不足 | DU2: 10 指導内容・ 指導者の質 | DV2: 11 学生の質 | DW2: 12 日程調整 | DX2: 13 実習環境 | DY2: 14 利用者からの ハラスメント等 | DZ2: 15 実習謝金 | EA2: 16 その他の課題 | EB2: その他※１ | EC2: その他※２ | EE2: ①学部 | EF2: ②大学院 | EG2: ③専攻科・別科 | EH2: 1 なし | EI2: 2 実習施設の不足、 確保困難 | EJ2: 3 教員の不足 | EK2: 4 受入条件が厳しい | EL2: 5 実習先職員からの ハラスメント | EM2: 6 受入れ人数の制限 | EN2: 7 男子学生受入れ 制限 | EO2: 8 実習先のスタッフ の不足 | EP2: 9 経験できる事業の 不足 | EQ2: 10 指導内容・ 指導者の質 | ER2: 11 学生の質 | ES2: 12 日程調整 | ET2: 13 実習環境 | EU2: 14 利用者からの ハラスメント等 | EV2: 15 実習謝金 | EW2: 16 その他 | EX2: 16.その他内容 | EZ2: ①学部 | FA2: ②大学院 | FB2: ③専攻科・別科 | FC2: 1 なし | FD2: 2 実習施設の不足、 確保困難 | FE2: 3 教員の不足 | FF2: 4 受入条件が厳しい | FG2: 5 実習先職員からの ハラスメント | FH2: 6 受入れ人数の制限 | FI2: 7 助産師やスタッフ の不足 | FJ2: 8 受け持ち患者の 制限 | FK2: 9 指導内容・ 指導者の質 | FL2: 10 学生の質 | FM2: 11 日程調整 | FN2: 12 実習環境 | FO2: 13 利用者からの ハラスメント等 | FP2: 14 実習謝金 | FQ2: 15 その他 | FR2: 15.その他内容 | FT2: ①学部 | FU2: ②専攻科・別科 | FV2: 1 なし | FW2: 2 実習施設の不足、 確保困難 | FX2: 3 教員の不足 | FY2: 4 受入条件が厳しい | FZ2: 5 受入れ人数の制限 | GA2: 6 男子学生受入れ 制限 | GB2: 7 実習学校側の質 | GC2: 8 指導内容・ 指導者の質 | GD2: 9 学生の質 | GE2: 10 日程調整 | GF2: 11 実習環境 | GG2: 12 実習先での ハラスメント等 | GH2: 13 実習謝金 | GI2: 14 その他 | GJ2: 14.その他内容 | GK2: ①入学金 | GL2: ②授業料 | GM2: ③実験・実習費 | GN2: ④施設設備費 | GO2: ⑤その他 | GP2: ①入学金 | GQ2: ②授業料 | GR2: ③実験・実習費 | GS2: ④施設設備費 | GT2: ⑤その他 | GU2: ①保健師 | GV2: ②助産師 | GW2: ③養護教諭 | GX2: ①入学金 | GY2: ②授業料 | GZ2: ③実験・実習費 | HA2: ④施設設備費 | HB2: ⑤その他 | HC2: ⑥合計 | HD2: ①入学金 | HE2: ②授業料 | HF2: ③実験・実習費 | HG2: ④施設設備費 | HH2: ⑤その他 | HI2: ⑥合計 | HJ2: ①入学金 | HK2: ②授業料 | HL2: ③実験・実習費 | HM2: ④施設設備費 | HN2: ⑤その他 | HO2: ⑥合計 | HP2: ①入学金 | HQ2: ②授業料 | HR2: ③実験・実習費 | HS2: ④施設設備費 | HT2: ⑤その他 | HU2: ⑥合計 | HV2: ①入学金 | HW2: ②授業料 | HX2: ③実験・実習費 | HY2: ④施設設備費 | HZ2: ⑤その他 | IA2: ⑥合計 | IB2: ①入学金 | IC2: ②授業料 | ID2: ③実験・実習費 | IE2: ④施設設備費 | IF2: ⑤その他 | IG2: ⑥合計 | IH2: ①入学金 | II2: ②授業料 | IJ2: ③実験・実習費 | IK2: ④施設設備費 | IL2: ⑤その他 | IM2: ⑥合計 | IN2: ①給付型 | IO2: ②貸与型 | IP2: ①給付型 | IQ2: ②貸与型 | IR2: ①給付型 | IS2: ②貸与型 | IT2: ①給付型 | IU2: ②貸与型 | IV2: ①教授 | IW2: ②准教授 | IX2: ③講師 | IY2: ④助教 | IZ2: ⑤助手 | JA2: ⑥その他 | JB2: その他内容
B3: =IF(調査票!$H$19="","",調査票!$H$19) | C3: =IF(調査票!$H$21="","",調査票!$H$21) | EB3: =IF(調査票!$E$622="","",調査票!$E$622) | EC3: =IF(調査票!$E$625="","",調査票!$E$625) | ED3: =IF(調査票!$AT$631="","",調査票!$AT$631) | EE3: =IF(調査票!$E$638="","",調査票!$E$638) | EF3: =IF(調査票!$L$638="","",調査票!$L$638) | EG3: =IF(調査票!$S$638="","",調査票!$S$638) | EX3: =IF(調査票!$E$649="","",調査票!$E$649) | EY3: =IF(調査票!$AT$652="","",調査票!$AT$652) | EZ3: =IF(調査票!$E$659="","",調査票!$E$659) | FA3: =IF(調査票!$L$659="","",調査票!$L$659) | FB3: =IF(調査票!$S$659="","",調査票!$S$659) | FR3: =IF(調査票!$E$670="","",調査票!$E$670) | FS3: =IF(調査票!$AT$673="","",調査票!$AT$673) | FT3: =IF(調査票!$E$680="","",調査票!$E$680) | FU3: =IF(調査票!$L$680="","",調査票!$L$680) | GJ3: =IF(調査票!$E$691="","",調査票!$E$691) | GK3: =IF(調査票!$I$700="","",調査票!$I$700) | GL3: =IF(調査票!$N$700="","",調査票!$N$700) | GM3: =IF(調査票!$S$700="","",調査票!$S$700) | GN3: =IF(調査票!$X$700="","",調査票!$X$700) | GO3: =IF(調査票!$AC$700="","",調査票!$AC$700) | GP3: =IF(調査票!$I$701="","",調査票!$I$701) | GQ3: =IF(調査票!$N$701="","",調査票!$N$701) | GR3: =IF(調査票!$S$701="","",調査票!$S$701) | GS3: =IF(調査票!$X$701="","",調査票!$X$701) | GT3: =IF(調査票!$AC$701="","",調査票!$AC$701) | GU3: =IF(調査票!$I$705="","",調査票!$I$705) | GV3: =IF(調査票!$I$706="","",調査票!$I$706) | GW3: =IF(調査票!$I$707="","",調査票!$I$707) | GX3: =IF(調査票!$I$713="","",調査票!$I$713) | GY3: =IF(調査票!$N$713="","",調査票!$N$713) | GZ3: =IF(調査票!$S$713="","",調査票!$S$713) | HA3: =IF(調査票!$X$713="","",調査票!$X$713) | HB3: =IF(調査票!$AC$713="","",調査票!$AC$713) | HC3: =IF(調査票!$AH$713="","",調査票!$AH$713) -> 0 | HD3: =IF(調査票!$I$714="","",調査票!$I$714) | HE3: =IF(調査票!$N$714="","",調査票!$N$714) | HF3: =IF(調査票!$S$714="","",調査票!$S$714) | HG3: =IF(調査票!$X$714="","",調査票!$X$714) | HH3: =IF(調査票!$AC$714="","",調査票!$AC$714) | HI3: =IF(調査票!$AH$714="","",調査票!$AH$714) -> 0 | HJ3: =IF(調査票!$I$715="","",調査票!$I$715) | HK3: =IF(調査票!$N$715="","",調査票!$N$715) | HL3: =IF(調査票!$S$715="","",調査票!$S$715) | HM3: =IF(調査票!$X$715="","",調査票!$X$715) | HN3: =IF(調査票!$AC$715="","",調査票!$AC$715) | HO3: =IF(調査票!$AH$715="","",調査票!$AH$715) -> 0 | HP3: =IF(調査票!$I$716="","",調査票!$I$716) | HQ3: =IF(調査票!$N$716="","",調査票!$N$716) | HR3: =IF(調査票!$S$716="","",調査票!$S$716) | HS3: =IF(調査票!$X$716="","",調査票!$X$716) | HT3: =IF(調査票!$AC$716="","",調査票!$AC$716) | HU3: =IF(調査票!$AH$716="","",調査票!$AH$716) -> 0 | HV3: =IF(調査票!$I$717="","",調査票!$I$717) | HW3: =IF(調査票!$N$717="","",調査票!$N$717) | HX3: =IF(調査票!$S$717="","",調査票!$S$717) | HY3: =IF(調査票!$X$717="","",調査票!$X$717) | HZ3: =IF(調査票!$AC$717="","",調査票!$AC$717) | IA3: =IF(調査票!$AH$717="","",調査票!$AH$717) -> 0 | IB3: =IF(調査票!$I$718="","",調査票!$I$718) | IC3: =IF(調査票!$N$718="","",調査票!$N$718) | ID3: =IF(調査票!$S$718="","",調査票!$S$718) | IE3: =IF(調査票!$X$718="","",調査票!$X$718) | IF3: =IF(調査票!$AC$718="","",調査票!$AC$718) | IG3: =IF(調査票!$AH$718="","",調査票!$AH$718) -> 0 | IH3: =IF(調査票!$I$719="","",調査票!$I$719) | II3: =IF(調査票!$N$719="","",調査票!$N$719) | IJ3: =IF(調査票!$S$719="","",調査票!$S$719) | IK3: =IF(調査票!$X$719="","",調査票!$X$719) | IL3: =IF(調査票!$AC$719="","",調査票!$AC$719) | IM3: =IF(調査票!$AH$719="","",調査票!$AH$719) -> 0 | IN3: =IF(調査票!$M$725="","",調査票!$M$725) | IO3: =IF(調査票!$R$725="","",調査票!$R$725) | IP3: =IF(調査票!$M$726="","",調査票!$M$726) | IQ3: =IF(調査票!$R$726="","",調査票!$R$726) | IR3: =IF(調査票!$M$727="","",調査票!$M$727) | IS3: =IF(調査票!$R$727="","",調査票!$R$727) | IT3: =IF(調査票!$M$728="","",調査票!$M$728) | IU3: =IF(調査票!$R$728="","",調査票!$R$728) | IV3: =IF(調査票!$D$734="","",調査票!$D$734) | IW3: =IF(調査票!$I$734="","",調査票!$I$734) | IX3: =IF(調査票!$N$734="","",調査票!$N$734) | IY3: =IF(調査票!$S$734="","",調査票!$S$734) | IZ3: =IF(調査票!$X$734="","",調査票!$X$734) | JA3: =IF(調査票!$AC$734="","",調査票!$AC$734) | JB3: =IF(調査票!$D$737="","",調査票!$D$737)

Sheet ⑥
A1: S―No | B1: 大学コード | C1: 大学名 | D1: Ｑ31-A 看護学実習全体 施設数・担当者・勤務日数 | K1: Ｑ31-B 看護学実習の経費 | P1: Ｑ31-C 補助金 | R1: Ｑ31-D 在宅看護学実習 施設数・担当者数 | V1: Ｑ31-E 在宅看護学実習の経費 | AC1: Ｑ31-F 補助金 | AE1: Ｑ32-A 保健師養成の実習 施設数・担当者数・勤務日数 | AO1: Ｑ32-B 保健師養成実習の経費 | AX1: Ｑ32-C 補助金 | AZ1: Ｑ33-A 助産師養成 施設数・担当者数・勤務日数 | BJ1: Ｑ33-B 助産師養成実習の経費 | BS1: Ｑ33-C 補助金 | BU1: Ｑ34-A 養護教諭一種養成 施設数・担当者数・勤務日数 | CD1: Ｑ34-B 養護教諭一種養成の系譜 | CK1: Ｑ34-C 補助金 | CM1: Ｑ35-1 博士前期 | CP1: Ｑ35-2 博士後期ＴＡ | CS1: Ｑ35-3 博士後期ＲＡ | CV1: Q36
